BEGIN:VCALENDAR
VERSION:2.0
PRODID:-//The Pearl - ECPv6.15.20//NONSGML v1.0//EN
CALSCALE:GREGORIAN
METHOD:PUBLISH
X-WR-CALNAME:The Pearl
X-ORIGINAL-URL:https://thepearldenver.com
X-WR-CALDESC:Events for The Pearl
REFRESH-INTERVAL;VALUE=DURATION:PT1H
X-Robots-Tag:noindex
X-PUBLISHED-TTL:PT1H
BEGIN:VTIMEZONE
TZID:America/Denver
BEGIN:DAYLIGHT
TZOFFSETFROM:-0700
TZOFFSETTO:-0600
TZNAME:MDT
DTSTART:20240310T090000
END:DAYLIGHT
BEGIN:STANDARD
TZOFFSETFROM:-0600
TZOFFSETTO:-0700
TZNAME:MST
DTSTART:20241103T080000
END:STANDARD
BEGIN:DAYLIGHT
TZOFFSETFROM:-0700
TZOFFSETTO:-0600
TZNAME:MDT
DTSTART:20250309T090000
END:DAYLIGHT
BEGIN:STANDARD
TZOFFSETFROM:-0600
TZOFFSETTO:-0700
TZNAME:MST
DTSTART:20251102T080000
END:STANDARD
BEGIN:DAYLIGHT
TZOFFSETFROM:-0700
TZOFFSETTO:-0600
TZNAME:MDT
DTSTART:20260308T090000
END:DAYLIGHT
BEGIN:STANDARD
TZOFFSETFROM:-0600
TZOFFSETTO:-0700
TZNAME:MST
DTSTART:20261101T080000
END:STANDARD
END:VTIMEZONE
BEGIN:VEVENT
DTSTART;TZID=America/Denver:20251012T110000
DTEND;TZID=America/Denver:20251012T150000
DTSTAMP:20260420T070221
CREATED:20251007T165324Z
LAST-MODIFIED:20251007T165324Z
UID:10006790-1760266800-1760281200@thepearldenver.com
SUMMARY:The Alliance Colorado Presents: Golden Gurrls Drag Queen Bingo
DESCRIPTION:Fabulous Entertainment – Dazzling drag performances\, over-the-top outfits\, and laugh-out-loud comedy by our incredible queens. This year\, we’re proud to support the Trans Continental Pipeline (TCP)\, helping 2SLGBTQIA+ individuals move to safe\, welcoming communities in Colorado. \nAudience Participation – Come in your best caftan or as your favorite Golden Girl for extra fun and bragging rights. \nBingo Madness – 5 lively rounds with fabulous prizes. \nCommunity & Celebration – Celebrate National Coming Out Day with friends\, laughter\, and lots of love—all while supporting a great cause! \nDon’t miss an afternoon of sparkle\, sass\, and community magic!
URL:https://thepearldenver.com/event/golden-gurrls-drag-queen-bingo/
LOCATION:The Warehouse (Upper Level of The Pearl)\, 2195 California St\, Denver\, CO\, 80205\, United States
ATTACH;FMTTYPE=image/png:https://thepearldenver.com/wp-content/uploads/2025/10/bingo-poster-update.png
END:VEVENT
END:VCALENDAR