BEGIN:VCALENDAR
VERSION:2.0
PRODID:-//The Pearl - ECPv6.15.20//NONSGML v1.0//EN
CALSCALE:GREGORIAN
METHOD:PUBLISH
X-ORIGINAL-URL:https://thepearldenver.com
X-WR-CALDESC:Events for The Pearl
REFRESH-INTERVAL;VALUE=DURATION:PT1H
X-Robots-Tag:noindex
X-PUBLISHED-TTL:PT1H
BEGIN:VTIMEZONE
TZID:America/Denver
BEGIN:DAYLIGHT
TZOFFSETFROM:-0700
TZOFFSETTO:-0600
TZNAME:MDT
DTSTART:20240310T090000
END:DAYLIGHT
BEGIN:STANDARD
TZOFFSETFROM:-0600
TZOFFSETTO:-0700
TZNAME:MST
DTSTART:20241103T080000
END:STANDARD
BEGIN:DAYLIGHT
TZOFFSETFROM:-0700
TZOFFSETTO:-0600
TZNAME:MDT
DTSTART:20250309T090000
END:DAYLIGHT
BEGIN:STANDARD
TZOFFSETFROM:-0600
TZOFFSETTO:-0700
TZNAME:MST
DTSTART:20251102T080000
END:STANDARD
BEGIN:DAYLIGHT
TZOFFSETFROM:-0700
TZOFFSETTO:-0600
TZNAME:MDT
DTSTART:20260308T090000
END:DAYLIGHT
BEGIN:STANDARD
TZOFFSETFROM:-0600
TZOFFSETTO:-0700
TZNAME:MST
DTSTART:20261101T080000
END:STANDARD
END:VTIMEZONE
BEGIN:VEVENT
DTSTART;TZID=America/Denver:20250519T190000
DTEND;TZID=America/Denver:20250519T190000
DTSTAMP:20260422T022604
CREATED:20250514T200347Z
LAST-MODIFIED:20250514T200359Z
UID:10005665-1747681200-1747681200@thepearldenver.com
SUMMARY:Summer Studios
DESCRIPTION:✨ a curated artist meet-up in the heart of Denver\n✨ focused on intentionality and accessibility\n✨one “guided” class & one creative community hangout twice a month\n✨all levels welcome | Limited supplies available |\n✨ food & drink available from The Pearl \ncome share creativity\, connection\, and cocktails with folks this summer \n*if online/advanced payment isn’t an option; cash at the door is great! \nHosted by S&H Media at The Pearl
URL:https://thepearldenver.com/event/summer-studios/
LOCATION:The Rose Room (Lower Level of The Pearl)\, 2195 California St\, Denver\, CO\, 80205\, United States
ATTACH;FMTTYPE=image/jpeg:https://thepearldenver.com/wp-content/uploads/2025/05/497478403_17862513810401378_5513989602886549597_n.jpg
END:VEVENT
END:VCALENDAR