BEGIN:VCALENDAR
VERSION:2.0
PRODID:-//The Pearl - ECPv6.15.20//NONSGML v1.0//EN
CALSCALE:GREGORIAN
METHOD:PUBLISH
X-ORIGINAL-URL:https://thepearldenver.com
X-WR-CALDESC:Events for The Pearl
REFRESH-INTERVAL;VALUE=DURATION:PT1H
X-Robots-Tag:noindex
X-PUBLISHED-TTL:PT1H
BEGIN:VTIMEZONE
TZID:America/Denver
BEGIN:DAYLIGHT
TZOFFSETFROM:-0700
TZOFFSETTO:-0600
TZNAME:MDT
DTSTART:20240310T090000
END:DAYLIGHT
BEGIN:STANDARD
TZOFFSETFROM:-0600
TZOFFSETTO:-0700
TZNAME:MST
DTSTART:20241103T080000
END:STANDARD
BEGIN:DAYLIGHT
TZOFFSETFROM:-0700
TZOFFSETTO:-0600
TZNAME:MDT
DTSTART:20250309T090000
END:DAYLIGHT
BEGIN:STANDARD
TZOFFSETFROM:-0600
TZOFFSETTO:-0700
TZNAME:MST
DTSTART:20251102T080000
END:STANDARD
BEGIN:DAYLIGHT
TZOFFSETFROM:-0700
TZOFFSETTO:-0600
TZNAME:MDT
DTSTART:20260308T090000
END:DAYLIGHT
BEGIN:STANDARD
TZOFFSETFROM:-0600
TZOFFSETTO:-0700
TZNAME:MST
DTSTART:20261101T080000
END:STANDARD
END:VTIMEZONE
BEGIN:VEVENT
DTSTART;TZID=America/Denver:20250523T190000
DTEND;TZID=America/Denver:20250523T190000
DTSTAMP:20260422T044224
CREATED:20250516T225143Z
LAST-MODIFIED:20250516T225143Z
UID:10005675-1748026800-1748026800@thepearldenver.com
SUMMARY:Queer & Sober Denver Social Event
DESCRIPTION:Let’s get social! \nGet ready – on Friday May 23\, we’re taking a trip to @thepearldenver ! This is the spot that recently took over the space where Mercury Cafe used to be. Let’s sip mocktails or NA and thrive together in this beautiful space! \n🗓Friday May 23 at 7pm\n💪The Pearl Denver\n📍2199 California St\, Denver\, CO 80205\n💸Cost varies by what you order \nStreet parking over here can be limited\, but there is a paid lot on the opposite corner. The Pearl has a few different rooms – keep an eye on our stories or the Discord to see where we landed! 👀
URL:https://thepearldenver.com/event/queer-sober-denver-social/
ATTACH;FMTTYPE=image/jpeg:https://thepearldenver.com/wp-content/uploads/2025/05/495160842_659097680218337_1416518107306736898_n.jpeg
END:VEVENT
END:VCALENDAR