BEGIN:VCALENDAR
VERSION:2.0
PRODID:-//The Pearl - ECPv6.15.20//NONSGML v1.0//EN
CALSCALE:GREGORIAN
METHOD:PUBLISH
X-ORIGINAL-URL:https://thepearldenver.com
X-WR-CALDESC:Events for The Pearl
REFRESH-INTERVAL;VALUE=DURATION:PT1H
X-Robots-Tag:noindex
X-PUBLISHED-TTL:PT1H
BEGIN:VTIMEZONE
TZID:America/Denver
BEGIN:DAYLIGHT
TZOFFSETFROM:-0700
TZOFFSETTO:-0600
TZNAME:MDT
DTSTART:20240310T090000
END:DAYLIGHT
BEGIN:STANDARD
TZOFFSETFROM:-0600
TZOFFSETTO:-0700
TZNAME:MST
DTSTART:20241103T080000
END:STANDARD
BEGIN:DAYLIGHT
TZOFFSETFROM:-0700
TZOFFSETTO:-0600
TZNAME:MDT
DTSTART:20250309T090000
END:DAYLIGHT
BEGIN:STANDARD
TZOFFSETFROM:-0600
TZOFFSETTO:-0700
TZNAME:MST
DTSTART:20251102T080000
END:STANDARD
BEGIN:DAYLIGHT
TZOFFSETFROM:-0700
TZOFFSETTO:-0600
TZNAME:MDT
DTSTART:20260308T090000
END:DAYLIGHT
BEGIN:STANDARD
TZOFFSETFROM:-0600
TZOFFSETTO:-0700
TZNAME:MST
DTSTART:20261101T080000
END:STANDARD
END:VTIMEZONE
BEGIN:VEVENT
DTSTART;TZID=America/Denver:20250627T140000
DTEND;TZID=America/Denver:20250627T190000
DTSTAMP:20260421T135635
CREATED:20250516T223938Z
LAST-MODIFIED:20250530T005305Z
UID:10005673-1751032800-1751050800@thepearldenver.com
SUMMARY:Love Vibes Presents: The Market Place and Gettin Sticky
DESCRIPTION:Welcome toLove Vibes Presents: The Market Place and Gettin Sticky! Join us onFri Jun 27 2025from 2 – 7 pm for a day filled with love\, good vibes atThe Pearl. Get ready to shop at our vibrant marketplace featuring 15 local vendors and artists\, and 10 musicians performing upstairs and downstairs. Don’t miss out on this opportunity to connect with the community and spread the love. Starting at 7:30 pm\, doors open for Gettin Sticky Pride burlesque and pole show and party with 5 dj sets\, Go-Go dancing\, Jello Wrestling\, and more! \nFrom 2 to 7 pm @earthspacemarketplace will be bringing us the queer market with 15 vendors! Vendor announcements come out May 26th!!! While you’re doing some shopping enjoy our music showcase hosted by @sierramaemusic !!! Stay tuned for the music set list come to you next week. We will have amazing drinks available by @thepearldenver and if you’re hungry\, they’ll be plenty of food to buy made by @roseroomcafedenver !! Starting at 8 pm doors will open for The Gettin Sticky pride party! We have a burlesque and drag show\, DJ sets downstairs and upstairs\, @real_estate.rebel will be raffling off tickets for their exclusive VIP section in the rose room! All proceeds from Queen beez’s raffle for VIP tickets will go @thedeloresproject ! Upstairs and downstairs we will have go-go dancers throughout the night. One more way to have fun than have Jell-O wrestling upstairs waivers will have to be signed. Stay tuned for our burlesque and drag performer lineup as well as our go-go dancer lineups. If you love the DJs from the Y2K party\, then you’ll love the music they’ll be bringing for pride!! Also shout out to the following sponsors!! @quincecoffeehouse @real_estate.rebel @urbansanctuary.love @milehighqueerclub @quebuenosuerte @thepearldenver @11thavenuehostel @thehouseofalainmikli \nTickets start off at $5 for the queer market and music showcase only general admission is $20 VIP $35. And we will have four top bottle service tables at $300 and six top bottle service tables at $400!!! Get your tickets now before they get sold out click on the link in the bio to get your tickets
URL:https://thepearldenver.com/event/love-vibes-presents-the-market-place-and-gettin-sticky/
ATTACH;FMTTYPE=image/jpeg:https://thepearldenver.com/wp-content/uploads/2025/05/https___cdn.evbuc_.com_images_1030581493_1376818734993_1_original.jpeg
END:VEVENT
END:VCALENDAR