BEGIN:VCALENDAR
VERSION:2.0
PRODID:-//The Pearl - ECPv6.15.20//NONSGML v1.0//EN
CALSCALE:GREGORIAN
METHOD:PUBLISH
X-WR-CALNAME:The Pearl
X-ORIGINAL-URL:https://thepearldenver.com
X-WR-CALDESC:Events for The Pearl
REFRESH-INTERVAL;VALUE=DURATION:PT1H
X-Robots-Tag:noindex
X-PUBLISHED-TTL:PT1H
BEGIN:VTIMEZONE
TZID:America/Denver
BEGIN:DAYLIGHT
TZOFFSETFROM:-0700
TZOFFSETTO:-0600
TZNAME:MDT
DTSTART:20240310T090000
END:DAYLIGHT
BEGIN:STANDARD
TZOFFSETFROM:-0600
TZOFFSETTO:-0700
TZNAME:MST
DTSTART:20241103T080000
END:STANDARD
BEGIN:DAYLIGHT
TZOFFSETFROM:-0700
TZOFFSETTO:-0600
TZNAME:MDT
DTSTART:20250309T090000
END:DAYLIGHT
BEGIN:STANDARD
TZOFFSETFROM:-0600
TZOFFSETTO:-0700
TZNAME:MST
DTSTART:20251102T080000
END:STANDARD
BEGIN:DAYLIGHT
TZOFFSETFROM:-0700
TZOFFSETTO:-0600
TZNAME:MDT
DTSTART:20260308T090000
END:DAYLIGHT
BEGIN:STANDARD
TZOFFSETFROM:-0600
TZOFFSETTO:-0700
TZNAME:MST
DTSTART:20261101T080000
END:STANDARD
END:VTIMEZONE
BEGIN:VEVENT
DTSTART;TZID=America/Denver:20250601T213000
DTEND;TZID=America/Denver:20250602T000000
DTSTAMP:20260421T194733
CREATED:20250519T153749Z
LAST-MODIFIED:20250530T005003Z
UID:10005678-1748813400-1748822400@thepearldenver.com
SUMMARY:TRANScendence: Binary Breakdown
DESCRIPTION:Kick off Pride Month with TRANScendence at @thepearldenver 🤍🩵🩷 Things are about to get a little… wEiRD as we destroy the binary with this all-star trans/enby cast. The first Pride was a riot\, join us in breaking down the gender binary\, defying gender norms\, and reveling in TRANS JOY 🏳️‍⚧️🥰 \n🧱 HOSTS 🧱\n@knockedlucy\n@bender.envy \n💢 BREAKDOWN BADDIES 💢\n@jajaohmaiwhoremoans\n@m.x.x.x.j\n@luv.tokyn\n@callie4cation \n👕 VENDING : @sickeningcreations @medicinemamakia \n📍DETAILS 📍\nSunday\, June 1\nDoors @ 9pm\, show @ 9:30pm\nLocated at The Pearl\, in the Jungle Room 🌴 @thepearldenver\n2199 California St Denver CO\n18+ event 🔞\n$10 cover at door
URL:https://thepearldenver.com/event/transcendence-binary-breakdown/
LOCATION:The Jungle Room (Lower Level of The Pearl)\, 2195 California St\, Denver\, CO\, 80205\, United States
ATTACH;FMTTYPE=image/jpeg:https://thepearldenver.com/wp-content/uploads/2025/05/497590326_17900342499180571_2170591687378685953_n.jpg
END:VEVENT
END:VCALENDAR