BEGIN:VCALENDAR
VERSION:2.0
PRODID:-//The Pearl - ECPv6.15.20//NONSGML v1.0//EN
CALSCALE:GREGORIAN
METHOD:PUBLISH
X-ORIGINAL-URL:https://thepearldenver.com
X-WR-CALDESC:Events for The Pearl
REFRESH-INTERVAL;VALUE=DURATION:PT1H
X-Robots-Tag:noindex
X-PUBLISHED-TTL:PT1H
BEGIN:VTIMEZONE
TZID:America/Denver
BEGIN:DAYLIGHT
TZOFFSETFROM:-0700
TZOFFSETTO:-0600
TZNAME:MDT
DTSTART:20240310T090000
END:DAYLIGHT
BEGIN:STANDARD
TZOFFSETFROM:-0600
TZOFFSETTO:-0700
TZNAME:MST
DTSTART:20241103T080000
END:STANDARD
BEGIN:DAYLIGHT
TZOFFSETFROM:-0700
TZOFFSETTO:-0600
TZNAME:MDT
DTSTART:20250309T090000
END:DAYLIGHT
BEGIN:STANDARD
TZOFFSETFROM:-0600
TZOFFSETTO:-0700
TZNAME:MST
DTSTART:20251102T080000
END:STANDARD
BEGIN:DAYLIGHT
TZOFFSETFROM:-0700
TZOFFSETTO:-0600
TZNAME:MDT
DTSTART:20260308T090000
END:DAYLIGHT
BEGIN:STANDARD
TZOFFSETFROM:-0600
TZOFFSETTO:-0700
TZNAME:MST
DTSTART:20261101T080000
END:STANDARD
END:VTIMEZONE
BEGIN:VEVENT
DTSTART;TZID=America/Denver:20250517T140000
DTEND;TZID=America/Denver:20250517T153000
DTSTAMP:20260422T022649
CREATED:20250513T175048Z
LAST-MODIFIED:20250516T221155Z
UID:10005213-1747490400-1747495800@thepearldenver.com
SUMMARY:Banned & Beloved Book Swap
DESCRIPTION:Join me next Saturday\, May 17 from 2:00pm – 3:30pm at @thepearldenver for an afternoon of book swapping\, book yapping\, and silent reading! We will have a ton of sapphic themed and romance books up for grabs! \nThis FREE event will focus on LGBTQIA+\, BIPOC\, Social Justice\, and Banned Books. Don’t have a book that fits the theme? No problem! Bring any book to swap and join the conversation. \nHow to participate:\n📖 Bring a book (or a few!) to swap – 1 book in = 1 book out!\n🍻 Grab a Drink or NA Option while you browse.\n📚 Pick a book (or more) to take home and enjoy! \nSee you soon loves! 💖
URL:https://thepearldenver.com/event/banned-beloved-book-swap/
LOCATION:The Rose Room (Lower Level of The Pearl)\, 2195 California St\, Denver\, CO\, 80205\, United States
ATTACH;FMTTYPE=image/jpeg:https://thepearldenver.com/wp-content/uploads/2025/05/495919274_17849304885455088_8251983356586071055_n.jpg
END:VEVENT
END:VCALENDAR