BEGIN:VCALENDAR
VERSION:2.0
PRODID:-//The Pearl - ECPv6.15.20//NONSGML v1.0//EN
CALSCALE:GREGORIAN
METHOD:PUBLISH
X-ORIGINAL-URL:https://thepearldenver.com
X-WR-CALDESC:Events for The Pearl
REFRESH-INTERVAL;VALUE=DURATION:PT1H
X-Robots-Tag:noindex
X-PUBLISHED-TTL:PT1H
BEGIN:VTIMEZONE
TZID:America/Denver
BEGIN:DAYLIGHT
TZOFFSETFROM:-0700
TZOFFSETTO:-0600
TZNAME:MDT
DTSTART:20300310T090000
END:DAYLIGHT
BEGIN:STANDARD
TZOFFSETFROM:-0600
TZOFFSETTO:-0700
TZNAME:MST
DTSTART:20301103T080000
END:STANDARD
BEGIN:DAYLIGHT
TZOFFSETFROM:-0700
TZOFFSETTO:-0600
TZNAME:MDT
DTSTART:20310309T090000
END:DAYLIGHT
BEGIN:STANDARD
TZOFFSETFROM:-0600
TZOFFSETTO:-0700
TZNAME:MST
DTSTART:20311102T080000
END:STANDARD
BEGIN:DAYLIGHT
TZOFFSETFROM:-0700
TZOFFSETTO:-0600
TZNAME:MDT
DTSTART:20320314T090000
END:DAYLIGHT
BEGIN:STANDARD
TZOFFSETFROM:-0600
TZOFFSETTO:-0700
TZNAME:MST
DTSTART:20321107T080000
END:STANDARD
END:VTIMEZONE
BEGIN:VEVENT
DTSTART;TZID=America/Denver:20310201T210000
DTEND;TZID=America/Denver:20310202T020000
DTSTAMP:20260423T134524
CREATED:20260227T211102Z
LAST-MODIFIED:20260326T192917Z
UID:10007805-1927746000-1927764000@thepearldenver.com
SUMMARY:PURO PERREO: Reggaetón y Lesbianas
DESCRIPTION:Good vibes\, good beats\, for the culture. come celebrate monthly with us 21+
URL:https://thepearldenver.com/event/puro-perreo-reggaeton-y-lesbianas/2031-02-01/
LOCATION:The Jungle Room (Lower Level of The Pearl)\, 2195 California St\, Denver\, CO\, 80205\, United States
ATTACH;FMTTYPE=image/png:https://thepearldenver.com/wp-content/uploads/2026/02/Copy-of-PURO-1.png
END:VEVENT
BEGIN:VEVENT
DTSTART;TZID=America/Denver:20310204T180000
DTEND;TZID=America/Denver:20310204T190000
DTSTAMP:20260423T134524
CREATED:20251006T204741Z
LAST-MODIFIED:20251006T205118Z
UID:10007879-1927994400-1927998000@thepearldenver.com
SUMMARY:Lectures & Libations
DESCRIPTION:Introducing a monthly series to help make higher education more accessible for queer folks – featuring pertinent lectures from Denver University professors. \nFeaturing a new lecture from a different professor on the first Tuesday of every month. \nProduced by Queer Renaissance Woman Productions \nContact Sabina.Palermo@du.edu with questions
URL:https://thepearldenver.com/event/lectures-libations/2031-02-04/
LOCATION:The Jungle Room (Lower Level of The Pearl)\, 2195 California St\, Denver\, CO\, 80205\, United States
ATTACH;FMTTYPE=image/jpeg:https://thepearldenver.com/wp-content/uploads/2025/10/F5A3CA17-7281-45FA-A491-2BB91D76DDAB.jpg
END:VEVENT
BEGIN:VEVENT
DTSTART;TZID=America/Denver:20310211T183000
DTEND;TZID=America/Denver:20310211T220000
DTSTAMP:20260423T134524
CREATED:20260211T182812Z
LAST-MODIFIED:20260211T182812Z
UID:10007680-1928601000-1928613600@thepearldenver.com
SUMMARY:QTs & Cuties: A Comedy Open Mic Safe Space
DESCRIPTION:Join us for our regularly occurring comedy events that are open to all\, but particularly geared towards those who identify as queer\, trans\, and/or women. \nHave you been looking for a comedy event that is catered to a crowd of queer folks and women? You’ve found it! \nQTs & Cuties is a Comedy Open Mic Safe Space for those who identify as Queer\, Trans\, and/or women! During a night of laughs and love\, we will also be working diligently to cultivate community\, connection\, and camaraderie! \nPunchlines hit better when everyone feels safe and seen! All comics will be made aware of this expectation\, and additionally\, there will be active moderation throughout the event to ensure our audience members feel safe.
URL:https://thepearldenver.com/event/qts-cuties-a-comedy-open-mic-safe-space/2031-02-11/
LOCATION:The Jungle Room (Lower Level of The Pearl)\, 2195 California St\, Denver\, CO\, 80205\, United States
ATTACH;FMTTYPE=image/png:https://thepearldenver.com/wp-content/uploads/2026/02/IMG_4180.png
END:VEVENT
BEGIN:VEVENT
DTSTART;TZID=America/Denver:20310218T190000
DTEND;TZID=America/Denver:20310218T210000
DTSTAMP:20260423T134524
CREATED:20260218T190137Z
LAST-MODIFIED:20260218T190137Z
UID:10007745-1929207600-1929214800@thepearldenver.com
SUMMARY:Figure Drawing Class
DESCRIPTION:Every 3rd Tuesday from 7pm-9pm \nPlease bring your own supplies <3 \nBrought to you by Liv & Phoenyx
URL:https://thepearldenver.com/event/figure-drawing-class-tues/2031-02-18/
LOCATION:The Jungle Room (Lower Level of The Pearl)\, 2195 California St\, Denver\, CO\, 80205\, United States
ATTACH;FMTTYPE=image/jpeg:https://thepearldenver.com/wp-content/uploads/2026/02/IMG_8207.jpg
END:VEVENT
BEGIN:VEVENT
DTSTART;TZID=America/Denver:20310225T183000
DTEND;TZID=America/Denver:20310225T230000
DTSTAMP:20260423T134524
CREATED:20260326T191653Z
LAST-MODIFIED:20260326T191653Z
UID:10007873-1929810600-1929826800@thepearldenver.com
SUMMARY:CONNECT.
DESCRIPTION:Harmonious blend of live music\, crafting\, somatic work\, and hot tea. \nCommunally led practices free flowing and skill sharing bring your projects and crafts. \nIn a world full of go go go come rest and recover come create and commune come listen and learn. \n$5 suggested donation includes hot tea\, live music\, & more.
URL:https://thepearldenver.com/event/connect/2031-02-25/
LOCATION:The Jungle Room (Lower Level of The Pearl)\, 2195 California St\, Denver\, CO\, 80205\, United States
ATTACH;FMTTYPE=image/png:https://thepearldenver.com/wp-content/uploads/2026/03/IMG_8100.png
END:VEVENT
BEGIN:VEVENT
DTSTART;TZID=America/Denver:20310226T190000
DTEND;TZID=America/Denver:20310226T210000
DTSTAMP:20260423T134524
CREATED:20260119T184126Z
LAST-MODIFIED:20260119T184126Z
UID:10007810-1929898800-1929906000@thepearldenver.com
SUMMARY:Polyam @ The Pearl
DESCRIPTION:Rotating events last Wednesday of the month \nA safe space for polyamorous queer community \nDoors open at 6:45pm
URL:https://thepearldenver.com/event/polyam-the-pearl/2031-02-26/
LOCATION:The Jungle Room (Lower Level of The Pearl)\, 2195 California St\, Denver\, CO\, 80205\, United States
ATTACH;FMTTYPE=image/png:https://thepearldenver.com/wp-content/uploads/2026/01/POLY-@-the-Pearl.png
END:VEVENT
END:VCALENDAR