BEGIN:VCALENDAR
VERSION:2.0
PRODID:-//The Pearl - ECPv6.15.20//NONSGML v1.0//EN
CALSCALE:GREGORIAN
METHOD:PUBLISH
X-WR-CALNAME:The Pearl
X-ORIGINAL-URL:https://thepearldenver.com
X-WR-CALDESC:Events for The Pearl
REFRESH-INTERVAL;VALUE=DURATION:PT1H
X-Robots-Tag:noindex
X-PUBLISHED-TTL:PT1H
BEGIN:VTIMEZONE
TZID:America/Denver
BEGIN:DAYLIGHT
TZOFFSETFROM:-0700
TZOFFSETTO:-0600
TZNAME:MDT
DTSTART:20240310T090000
END:DAYLIGHT
BEGIN:STANDARD
TZOFFSETFROM:-0600
TZOFFSETTO:-0700
TZNAME:MST
DTSTART:20241103T080000
END:STANDARD
BEGIN:DAYLIGHT
TZOFFSETFROM:-0700
TZOFFSETTO:-0600
TZNAME:MDT
DTSTART:20250309T090000
END:DAYLIGHT
BEGIN:STANDARD
TZOFFSETFROM:-0600
TZOFFSETTO:-0700
TZNAME:MST
DTSTART:20251102T080000
END:STANDARD
BEGIN:DAYLIGHT
TZOFFSETFROM:-0700
TZOFFSETTO:-0600
TZNAME:MDT
DTSTART:20260308T090000
END:DAYLIGHT
BEGIN:STANDARD
TZOFFSETFROM:-0600
TZOFFSETTO:-0700
TZNAME:MST
DTSTART:20261101T080000
END:STANDARD
END:VTIMEZONE
BEGIN:VEVENT
DTSTART;TZID=America/Denver:20250518T173000
DTEND;TZID=America/Denver:20250518T183000
DTSTAMP:20260422T021100
CREATED:20250513T173254Z
LAST-MODIFIED:20250725T192042Z
UID:10004829-1747589400-1747593000@thepearldenver.com
SUMMARY:Beginning Charleston!
DESCRIPTION:Whether it’s your first or your thousandth time\, you can’t beat Sunday nights at the Mercury Cafe for their fun\, energy\, and value!  The third Sunday of every month\, the theme of our 5:30 pm class is Charleston! This 1920’s dance is still fashionable\, and we’ll teach you what you need to know to cut-a-rug at tonight’s social. Drop-ins\, singles\, couples\, families\, and groups are all welcome. \nFor questions about this event\, please contact the event organizer listed below \n$18.00 Includes social dance
URL:https://thepearldenver.com/event/beginning-charleston/2025-05-18/
LOCATION:The Warehouse (Upper Level of The Pearl)\, 2195 California St\, Denver\, CO\, 80205\, United States
ATTACH;FMTTYPE=image/jpeg:https://thepearldenver.com/wp-content/uploads/2025/05/westcoast-e1648431867948.jpg
ORGANIZER;CN="Swing Nights":MAILTO:info@swingnights.com
END:VEVENT
BEGIN:VEVENT
DTSTART;TZID=America/Denver:20250518T143000
DTEND;TZID=America/Denver:20250518T163000
DTSTAMP:20260422T021100
CREATED:20250513T194305Z
LAST-MODIFIED:20250725T192034Z
UID:10005971-1747578600-1747585800@thepearldenver.com
SUMMARY:Denver Astrology Group
DESCRIPTION:Join us for this month’s meeting of the Denver Astrology Group at The Pearl. \nThe cafe will be open\, so feel free to come early or stay after to mingle and enjoy some snacks! \nPlease note there’s a sliding scale $10-$45 entry fee for this meetup\, payable by cash\, PayPal\, or Venmo. Free street parking is available\, as well as a paid lot across the street. \nANNOUNCEMENT: If you miss a meeting\, don’t worry! We have a podcast that recaps each of our meetups. Follow us on YouTube and Instagram @MercAstroPod \nFor any questions or concerns\, reach out to Bren & Rosalie at MercAstroPod@gmail.com. We are looking forward to seeing you there! \n— \nThe Denver Astrology Group is a local astrological organization that meets on the third Saturday of each month in Denver\, Colorado. Our meetings are always held at the Mercury Cafe. \nThe purpose of the Denver Astrology Group is to create a robust and active community in Colorado for astrologers to meet\, network\, and share knowledge with one another. \nOur main focus is the organization of monthly meetings and workshops in order to help teach and promote various forms of astrology. \nOur meetings are open to all astrologers\, astrology enthusiasts\, or people who would just like to learn more about the subject\, from the novice to the adept. Everyone is welcome\, and all who attend will learn something new and interesting at each meeting.
URL:https://thepearldenver.com/event/denver-astrology-group/2025-05-18/
LOCATION:The Jungle Room (Lower Level of The Pearl)\, 2195 California St\, Denver\, CO\, 80205\, United States
ATTACH;FMTTYPE=image/jpeg:https://thepearldenver.com/wp-content/uploads/2025/05/214B9461-29CB-4801-B618-50FD163B7EE0.jpg
END:VEVENT
BEGIN:VEVENT
DTSTART;TZID=America/Denver:20250517T210000
DTEND;TZID=America/Denver:20250518T050000
DTSTAMP:20260422T021100
CREATED:20250510T054419Z
LAST-MODIFIED:20250513T225342Z
UID:10001567-1747515600-1747544400@thepearldenver.com
SUMMARY:Rave Revival
DESCRIPTION:A collaboration between Sapphic Collective\, Hoppers\, and Haus Catz for a two stage lineup at The Pearl! \nWe’re so excited to announce Rave Revival – a monumental collaborative event between Sapphic Collective\, Hoppers\, and Haus Catz. \nThis event will feature a two stage lineup featuring Philadelphia’s Rock The House founder Billy Bevevino (The Basement Discos\, Fantastic Voyage)\, Brunson (Tresor\, Rekids)\, some extremely special guests\, the Haus Catz Residents as well as the premiere of DOSIS (a collaborative project between J BOLIVAR + MIRLO). \nAlongside them are Hoppers and Haus Catz alumni! WOLFiE FENiX will bring her bass forward and left-field freak dance anthems\, Bubbles & Squish aka Laru and Gramsie will be doing a special anniversary duo set\, while Renata Rave founder DATA will be tearing it up with some left field/latin club shakers. \nWe also have some new faces with Latin tech queens HER MANS\, infections house music darlings Pulse CTRL & the hi energy and uptempo dance fusions of Deb the Demo!
URL:https://thepearldenver.com/event/rave-revival/
LOCATION:CO
ATTACH;FMTTYPE=image/webp:https://thepearldenver.com/wp-content/uploads/2025/05/5535c1_d3bcc405d62349eca880b909924e6779mv2.webp
END:VEVENT
BEGIN:VEVENT
DTSTART;TZID=America/Denver:20250517T140000
DTEND;TZID=America/Denver:20250517T153000
DTSTAMP:20260422T021100
CREATED:20250513T175048Z
LAST-MODIFIED:20250516T221155Z
UID:10005213-1747490400-1747495800@thepearldenver.com
SUMMARY:Banned & Beloved Book Swap
DESCRIPTION:Join me next Saturday\, May 17 from 2:00pm – 3:30pm at @thepearldenver for an afternoon of book swapping\, book yapping\, and silent reading! We will have a ton of sapphic themed and romance books up for grabs! \nThis FREE event will focus on LGBTQIA+\, BIPOC\, Social Justice\, and Banned Books. Don’t have a book that fits the theme? No problem! Bring any book to swap and join the conversation. \nHow to participate:\n📖 Bring a book (or a few!) to swap – 1 book in = 1 book out!\n🍻 Grab a Drink or NA Option while you browse.\n📚 Pick a book (or more) to take home and enjoy! \nSee you soon loves! 💖
URL:https://thepearldenver.com/event/banned-beloved-book-swap/
LOCATION:The Rose Room (Lower Level of The Pearl)\, 2195 California St\, Denver\, CO\, 80205\, United States
ATTACH;FMTTYPE=image/jpeg:https://thepearldenver.com/wp-content/uploads/2025/05/495919274_17849304885455088_8251983356586071055_n.jpg
END:VEVENT
BEGIN:VEVENT
DTSTART;TZID=America/Denver:20250516T220000
DTEND;TZID=America/Denver:20250516T220000
DTSTAMP:20260422T021100
CREATED:20250513T181802Z
LAST-MODIFIED:20250514T010740Z
UID:10005217-1747432800-1747432800@thepearldenver.com
SUMMARY:For the Culture Dance Party
DESCRIPTION:THIS FRIDAY a latin and hip hop focused night! DJ @thehexkitten at 10pm in the warehouse upstairs!!
URL:https://thepearldenver.com/event/sapphic-latin-hip-hop-dance-party/
LOCATION:The Warehouse (Upper Level of The Pearl)\, 2195 California St\, Denver\, CO\, 80205\, United States
ATTACH;FMTTYPE=image/jpeg:https://thepearldenver.com/wp-content/uploads/2025/05/497765654_17883104085312749_8019133565616771204_n.jpg
END:VEVENT
BEGIN:VEVENT
DTSTART;TZID=America/Denver:20250516T210000
DTEND;TZID=America/Denver:20250517T000000
DTSTAMP:20260422T021100
CREATED:20250510T023544Z
LAST-MODIFIED:20250916T201319Z
UID:10003925-1747429200-1747440000@thepearldenver.com
SUMMARY:Poetry Open Mic
DESCRIPTION:Poets are invited to rock the mic\, backed up by the musical ensemble Art Compost and the Word Mechanics.
URL:https://thepearldenver.com/event/poetry-open-mic/2025-05-16/
LOCATION:The Rose Room (Lower Level of The Pearl)\, 2195 California St\, Denver\, CO\, 80205\, United States
ATTACH;FMTTYPE=image/jpeg:https://thepearldenver.com/wp-content/uploads/2025/05/496600697_18243475690305035_8434641685192358071_n.jpg
END:VEVENT
BEGIN:VEVENT
DTSTART;TZID=America/Denver:20250516T210000
DTEND;TZID=America/Denver:20250516T210000
DTSTAMP:20260422T021100
CREATED:20250513T175957Z
LAST-MODIFIED:20250513T232221Z
UID:10005215-1747429200-1747429200@thepearldenver.com
SUMMARY:Sapphic Collective Party
DESCRIPTION:
URL:https://thepearldenver.com/event/sapphic-collective-party/
LOCATION:The Rose Room (Lower Level of The Pearl)\, 2195 California St\, Denver\, CO\, 80205\, United States
ATTACH;FMTTYPE=image/png:https://thepearldenver.com/wp-content/uploads/2025/05/rose_room_.png
END:VEVENT
BEGIN:VEVENT
DTSTART;TZID=America/Denver:20250516T180000
DTEND;TZID=America/Denver:20250516T210000
DTSTAMP:20260422T021100
CREATED:20250513T171254Z
LAST-MODIFIED:20250725T191951Z
UID:10003664-1747418400-1747429200@thepearldenver.com
SUMMARY:The Pearl Jam
DESCRIPTION:Weekly community Jazz Jam. Sign up to play with the host at 6\, or any time during the Jam!
URL:https://thepearldenver.com/event/jazz-jam/2025-05-16/
LOCATION:The Jungle Room (Lower Level of The Pearl)\, 2195 California St\, Denver\, CO\, 80205\, United States
ATTACH;FMTTYPE=image/jpeg:https://thepearldenver.com/wp-content/uploads/2025/05/489989224_18366981826130201_7729045706445498532_n.jpg
END:VEVENT
BEGIN:VEVENT
DTSTART;TZID=America/Denver:20250515T190000
DTEND;TZID=America/Denver:20250515T210000
DTSTAMP:20260422T021100
CREATED:20250513T174224Z
LAST-MODIFIED:20250513T174224Z
UID:10005211-1747335600-1747342800@thepearldenver.com
SUMMARY:Blue Sky Jazz
DESCRIPTION:
URL:https://thepearldenver.com/event/blue-sky-jazz/
LOCATION:The Jungle Room (Lower Level of The Pearl)\, 2195 California St\, Denver\, CO\, 80205\, United States
ATTACH;FMTTYPE=image/jpeg:https://thepearldenver.com/wp-content/uploads/2025/05/488714030_17906189181106220_1095232031208879502_n.jpg
END:VEVENT
BEGIN:VEVENT
DTSTART;TZID=America/Denver:20250515T183000
DTEND;TZID=America/Denver:20250515T183000
DTSTAMP:20260422T021100
CREATED:20250513T174637Z
LAST-MODIFIED:20250513T232145Z
UID:10005212-1747333800-1747333800@thepearldenver.com
SUMMARY:SSB Blues Dance Party with Deborah Stafford and the Night Stalkers!
DESCRIPTION:*Presale tickets are now available! Save $2 off up until the day before the events at the links below!\nPresale CLASS AND DANCE ticket: https://square.link/u/gPGlWEt3\nPresale DANCE ONLY ticket: https://square.link/u/ZSVsPDmr \nOur next blues dance party will be with live music from Deborah Stafford and the Night Stalkers! This is a super long standing band in Colorado that dish out the best blues classics all night long!\nYou can only find SSB at Denver’s one and only THE PEARL! (formerly the Mercury Café) in the upstairs ballroom! This will be the first event at the venue known as The Pearl- come support the community and the new owners as they continue all of the scheduled events in the space!\nCome for good music\, good dancing\, and good people!\nDoors open at 6:30pm. Free street parking or adjacent lots starting at only $4.\nThere will be a beginner-friendly blues dance lesson from 7-8pm. A dance party with live music from the band and DJ’ed band breaks will follow from 8-12.\n7-8pm: All levels blues dance class\nInstructors: Jae Wilson\n8:30-11:00: Deborah Stafford and the Night Stalkers (live blues band!)\nDJ: Jae (band breaks)\nAdmission:\n$15- class only ($10 student discount with ID)\n$20- dance only ($15 student discount with ID)\n$35- class and dance ($25 student discount with ID)\nThe dance is indoors\, NO RESTRICTIONS: vaccine and mask optional. Please stay home if you feel unwell! Be safe\, have fun! We can NOT wait to see you all and continue to celebrate the blues dance scene at The Pearl!
URL:https://thepearldenver.com/event/ssb-blues-dance-party-with-deborah-stafford-and-the-night-stalkers/
LOCATION:The Warehouse (Upper Level of The Pearl)\, 2195 California St\, Denver\, CO\, 80205\, United States
ATTACH;FMTTYPE=image/jpeg:https://thepearldenver.com/wp-content/uploads/2025/05/491966013_656287717308739_8275702309881521920_n.jpg
END:VEVENT
BEGIN:VEVENT
DTSTART;TZID=America/Denver:20250514T200000
DTEND;TZID=America/Denver:20250514T200000
DTSTAMP:20260422T021100
CREATED:20250513T170946Z
LAST-MODIFIED:20250515T033020Z
UID:10003402-1747252800-1747252800@thepearldenver.com
SUMMARY:West Coast Swing Social Dance
DESCRIPTION:Westie Wednesdays
URL:https://thepearldenver.com/event/west-coast-swing-social-dance/
LOCATION:The Warehouse (Upper Level of The Pearl)\, 2195 California St\, Denver\, CO\, 80205\, United States
ATTACH;FMTTYPE=image/jpeg:https://thepearldenver.com/wp-content/uploads/2025/05/westcoast-e1648431867948.jpg
ORGANIZER;CN="Swing Nights":MAILTO:info@swingnights.com
END:VEVENT
BEGIN:VEVENT
DTSTART;TZID=America/Denver:20250514T190000
DTEND;TZID=America/Denver:20250514T200000
DTSTAMP:20260422T021100
CREATED:20250513T170843Z
LAST-MODIFIED:20260128T210923Z
UID:10003403-1747249200-1747252800@thepearldenver.com
SUMMARY:West Coast Swing Beginner Class
DESCRIPTION:Colorado’s second largest night of West Coast Swing dancing happens every Wednesday in downtown Denver at The Pearl! \nDress is casual. Partner not required. Wear comfortable shoes (preferably not rubber soled). \nCASH NOT ACCEPTED \nIntermediate Lesson\n6:00 PM – 7:00 PM \nBeginner Lesson\n7:00 PM – 8:00 PM \nDance\n8:00 PM – 11:45 PM \n$10 Cover includes lesson and dance!
URL:https://thepearldenver.com/event/west-coast-swing-beginner-class/2025-05-14/
LOCATION:The Warehouse (Upper Level of The Pearl)\, 2195 California St\, Denver\, CO\, 80205\, United States
ATTACH;FMTTYPE=image/jpeg:https://thepearldenver.com/wp-content/uploads/2025/05/Wednesday-NIGHTS-jan-2023.jpeg
END:VEVENT
BEGIN:VEVENT
DTSTART;TZID=America/Denver:20250514T190000
DTEND;TZID=America/Denver:20250514T190000
DTSTAMP:20260422T021101
CREATED:20250513T173926Z
LAST-MODIFIED:20250513T232137Z
UID:10005210-1747249200-1747249200@thepearldenver.com
SUMMARY:Craft Night
DESCRIPTION:
URL:https://thepearldenver.com/event/craft-night/
LOCATION:The Jungle Room (Lower Level of The Pearl)\, 2195 California St\, Denver\, CO\, 80205\, United States
ATTACH;FMTTYPE=image/jpeg:https://thepearldenver.com/wp-content/uploads/2025/05/979210.jpg
END:VEVENT
BEGIN:VEVENT
DTSTART;TZID=America/Denver:20250514T180000
DTEND;TZID=America/Denver:20250514T190000
DTSTAMP:20260422T021101
CREATED:20250513T170806Z
LAST-MODIFIED:20260128T211106Z
UID:10003140-1747245600-1747249200@thepearldenver.com
SUMMARY:West Coast Swing Intermediate Class
DESCRIPTION:Colorado’s second largest night of West Coast Swing dancing happens every Wednesday in downtown Denver at The Pearl! \nDress is casual. Partner not required. Wear comfortable shoes (preferably not rubber soled). \nCASH NOT ACCEPTED \nIntermediate Lesson\n6:00 PM – 7:00 PM \nBeginner Lesson\n7:00 PM – 8:00 PM \nDance\n8:00 PM – 11:45 PM \n$10 Cover includes lesson and dance!
URL:https://thepearldenver.com/event/west-coast-swing-intermediate-class/2025-05-14/
LOCATION:The Warehouse (Upper Level of The Pearl)\, 2195 California St\, Denver\, CO\, 80205\, United States
ATTACH;FMTTYPE=image/jpeg:https://thepearldenver.com/wp-content/uploads/2025/05/Wednesday-NIGHTS-jan-2023.jpeg
END:VEVENT
BEGIN:VEVENT
DTSTART;TZID=America/Denver:20250513T200000
DTEND;TZID=America/Denver:20250514T000000
DTSTAMP:20260422T021101
CREATED:20250513T170540Z
LAST-MODIFIED:20250725T191908Z
UID:10002879-1747166400-1747180800@thepearldenver.com
SUMMARY:The Lindy Jam! Lindy Hop Social Dance w/ DJ
DESCRIPTION:Join our regular weekly Swing Nights’ Lindy Jam\, with DJ’s playing hot vintage tracks\, and all the rest come out to dance.  A Denver Classic! \nCome to class beforehand and join in all the fun! (Classes sold separately: take a class and save $2 off cover!) \n$13.00
URL:https://thepearldenver.com/event/the-lindy-jam/2025-05-13/
LOCATION:The Warehouse (Upper Level of The Pearl)\, 2195 California St\, Denver\, CO\, 80205\, United States
ATTACH;FMTTYPE=image/jpeg:https://thepearldenver.com/wp-content/uploads/2025/05/swinghome3-e1647641187821.jpg
ORGANIZER;CN="Swing Nights":MAILTO:info@swingnights.com
END:VEVENT
BEGIN:VEVENT
DTSTART;TZID=America/Denver:20250513T190000
DTEND;TZID=America/Denver:20250513T210000
DTSTAMP:20260422T021101
CREATED:20250510T023147Z
LAST-MODIFIED:20251121T191958Z
UID:10000262-1747162800-1747170000@thepearldenver.com
SUMMARY:Trivia
DESCRIPTION:
URL:https://thepearldenver.com/event/trivia/2025-05-13/
LOCATION:The Rose Room (Lower Level of The Pearl)\, 2195 California St\, Denver\, CO\, 80205\, United States
ATTACH;FMTTYPE=image/png:https://thepearldenver.com/wp-content/uploads/2025/05/rose_room_.png
END:VEVENT
BEGIN:VEVENT
DTSTART;TZID=America/Denver:20250513T190000
DTEND;TZID=America/Denver:20250513T200000
DTSTAMP:20260422T021101
CREATED:20250513T170005Z
LAST-MODIFIED:20250725T191848Z
UID:10005404-1747162800-1747166400@thepearldenver.com
SUMMARY:Intermediate Lindy Hop Lessons!
DESCRIPTION:Ready to grow? Refine your basics and be challenged by new rhythms\, steps\, and moves every week! \nINTERMEDIATE LINDY HOP – 7:00 PM\nA great way to improve your repertoire! Once you have the basics nailed (we suggest taking the 6:00 PM Beginning class for at least two months) hop on up to this class! There’s a different focus each month\, so check the Swing Nights website for the current theme and to sign-up in advance! \nClass is held every Tuesday at The Pearl\, with a DJ’ed social dance\, the Lindy Jam\, afterward from 8-midnight! \nReserve your spot (or drop-ins welcome) $10 per student per class\, or $15 for both classes\nThe Lindy Jam\, our social dance afterwards\, is $13 (but take a class\, and get $2 off cover)\n*classes and dance sold separately
URL:https://thepearldenver.com/event/intermediate-lindy-hop-lessons/2025-05-13/
LOCATION:The Warehouse (Upper Level of The Pearl)\, 2195 California St\, Denver\, CO\, 80205\, United States
ATTACH;FMTTYPE=image/jpeg:https://thepearldenver.com/wp-content/uploads/2025/05/IntermediateLindySwing.jpg
ORGANIZER;CN="Swing Nights":MAILTO:info@swingnights.com
END:VEVENT
BEGIN:VEVENT
DTSTART;TZID=America/Denver:20250513T190000
DTEND;TZID=America/Denver:20250513T190000
DTSTAMP:20260422T021101
CREATED:20250513T164809Z
LAST-MODIFIED:20250513T232122Z
UID:10002094-1747162800-1747162800@thepearldenver.com
SUMMARY:Queer Speed Dating
DESCRIPTION:Come at 7pm to grab some drinks and speed date in the Jungle room\, and maybe find a date? 😉
URL:https://thepearldenver.com/event/queer-speed-dating/
LOCATION:The Jungle Room (Lower Level of The Pearl)\, 2195 California St\, Denver\, CO\, 80205\, United States
ATTACH;FMTTYPE=image/jpeg:https://thepearldenver.com/wp-content/uploads/2025/05/496344549_17882846862312749_7824209012211479976_n.jpg
END:VEVENT
BEGIN:VEVENT
DTSTART;TZID=America/Denver:20250513T180000
DTEND;TZID=America/Denver:20250513T190000
DTSTAMP:20260422T021101
CREATED:20250513T170134Z
LAST-MODIFIED:20250725T191821Z
UID:10002618-1747159200-1747162800@thepearldenver.com
SUMMARY:Beginning Lindy Hop Lessons!
DESCRIPTION:Let’s have some fun! Join us and learn the original partnered swing dance from Harlem\, NY! Lindy Hop is a joyful dance bound to put a smile on your face. \nBEGINNING LINDY HOP – 6:00 PM\nThis is a progressive series for the beginner Lindy Hopper. We start from square one\, teaching the basic rhythms\, footwork\, and technique. By the end\, you’ll have several classic moves to use on the social dance floor! Each class builds upon the previous one\, so sign up for the whole month. \nOnce you have the basics down\, join us for… \nINTERMEDIATE LINDY HOP – 7:00 PM\nA great way to improve your repertoire! Once you have the basics nailed (we suggest taking the Beginning class for at least two months) hop on up to this class! There’s a different focus each month\, so check the Swing Nights website for the current theme and to sign-up in advance! \nClass is held every Tuesday at The Pearl\, with a DJ’ed social dance\, the Lindy Jam\, afterward from 8-midnight! \nReserve your spot (or drop-ins welcome) $10 per student per class\, or $15 for both classes\nThe Lindy Jam\, our social dance afterwards\, is $13 (but take a class\, and get $2 off cover)\n*classes and dance sold separately
URL:https://thepearldenver.com/event/beginning-lindy-hop-lessons/2025-05-13/
LOCATION:The Warehouse (Upper Level of The Pearl)\, 2195 California St\, Denver\, CO\, 80205\, United States
ATTACH;FMTTYPE=image/jpeg:https://thepearldenver.com/wp-content/uploads/2025/05/BeginningLindySwing.jpg
ORGANIZER;CN="Swing Nights":MAILTO:info@swingnights.com
END:VEVENT
BEGIN:VEVENT
DTSTART;TZID=America/Denver:20250512T190000
DTEND;TZID=America/Denver:20250512T233000
DTSTAMP:20260422T021101
CREATED:20250513T183450Z
LAST-MODIFIED:20250725T191840Z
UID:10005222-1747076400-1747092600@thepearldenver.com
SUMMARY:BraZouk
DESCRIPTION:Beginner Brazilian Zouk class: 7-8pm\nSocial Dance: 8-11:30pm \n🎧 DJs: @earthmethod & @djlilylicious\n💃 Instructor: @thislittlespice\n🌃 Venue: @thepearldenver \nNo experience or partner required – we love welcoming new people into the community ☀️ \n$20 Class + Social\n$15 Social Only\nVenmo or tap to pay \nSee you on the dance floor!\n.\n.\n.\n#brazilianzouk #denverzouk #thepearldenver #coloradozouk #mercurycafe #denverdance #denvernightlife #partnerdance #denverfun
URL:https://thepearldenver.com/event/brazouk/2025-05-12/
LOCATION:The Warehouse (Upper Level of The Pearl)\, 2195 California St\, Denver\, CO\, 80205\, United States
ATTACH;FMTTYPE=image/webp:https://thepearldenver.com/wp-content/uploads/2025/05/495432365_17895111978213764_3606006072005914082_n.webp
END:VEVENT
BEGIN:VEVENT
DTSTART;TZID=America/Denver:20250512T164400
DTEND;TZID=America/Denver:20250512T213000
DTSTAMP:20260422T021101
CREATED:20250510T052951Z
LAST-MODIFIED:20250510T053004Z
UID:10001566-1747068240-1747085400@thepearldenver.com
SUMMARY:Scorpio Full Moon Market
DESCRIPTION:🎉🧚🏾‍♀️💕 CALLING ALL COMMUNITY : \n💰$50 twerk competition MAY 12th 2025💰 \nCome celebrate community and culture with @witchesandwizardscoven @thepearldenver ‼️ \n– Local BIPOC + QUEER Vendors ❣️\n– Poets ❣️\n– DRAG performers ❣️\n– Models❣️\n– Clothing Artists / Jewelry Artist ❣️\n– HENNA & TATTOO ARTISTS ❣️ \n📍 LOCATION : @thepearldenver 2199 California St. Denver\, CO 80205 \n🎙️ Poetry is open mic: 6 pm – 7 pm.\nNO SIGN UP SHEET! FIRST COME FIRST SERVE! \n🎶 DJ @chloebeeblessed 🎶 \n⏰ Art Walk (4:44 pm – 9 pm)\n🎙️ Open Mic (6 pm-7 pm)\n👠 Fashion show (6:30 – 7 pm)\n🍑 Twerk Competition $50 🏆 CASH PRIZE (7 pm – 7:15 pm {30 sec}\n👠 BIPOC Drag Performances ( @lychee_long @phreshair_ ) (7:30 – 8 pm)\n🔥 Fire burning performance & ritual @revolutionarysedona 9 pm\n🐺 Closing collective howl 9:30 pm \n👇🏾 VENDORS SHOUT OUT👇🏾 \n@playhausbakery – Black Queer Vegan Sweets 🧁\n@khadijahsflowers – Jewelry ✨\n@bkbakeher – Black Owned Vegan delights 🍃\n@kesias_daydream – Black Anime art 🎨\n@thefoodshorty – Soul Food 🥘\n@hennabybex – Henna ✋🏾✋🏼✋🏿\n@arcanekollective – Magic 🪄\n@elevatedminddesigns – Body paint 🎨\n@sophie_lorenn – Zines 📚\n@katklawzshop – Nails 💅🏽\n@littlewitch.fox – Crochet 🧶\n@phoenix_lamour – Body massage + Reiki 🧖🏾‍♀️\n@cdbbo.llc – Black Queer Owned Resin 💥\n@witchwellnessshop – Hoodoo 🍃\n@karmicwares – Crystal Goddess 💎\n@starryeyed.gemini – Prints & totes 🎨\n@gaias_apothecary13 \n🪭 CLOTHING + JEWELRY ARTIST 🪭\n@witchesandwizardscoven\n@coange11s\n@chikodesigns_co\n@get_flufffed\n@psych.dsgns \n– After the show models & community can BUY art from creators on site 👕 \n🎙️ PLEASE be mindful others come to our events to speak\, feel heard and be seen darling 🤌🏾 (1 song / 1 poem MAX) \n📆 Next “FULL MOON MARKET” Event: JUNE 11th 2025 @ 444-9 pm (LOCATION: The Pearl (where Mercury cafe used to be ) 💕🌹🐝 🌝 ~Art Walk~ Drag Performances ~Open Mic ~ Moon party (Every FULL MOON) \nwww.TheWitchWellnessShop.com \n#fyp #fypシ #explore #explorepage✨ #explorepage #denver #communitybuilding #openmic #queerartist #blackartist #sapphic #denverevents #queerartist #blackartist #motivation #localartist #henna #fun #goodvibes
URL:https://thepearldenver.com/event/scorpio-full-moon-market/
LOCATION:CO
ATTACH;FMTTYPE=image/jpeg:https://thepearldenver.com/wp-content/uploads/2025/05/496714036_18503473372045861_169019493488919514_n.jpg
END:VEVENT
BEGIN:VEVENT
DTSTART;VALUE=DATE:20250512
DTEND;VALUE=DATE:20250514
DTSTAMP:20260422T021101
CREATED:20250510T022939Z
LAST-MODIFIED:20251222T004908Z
UID:10006871-1747022400-1747108799@thepearldenver.com
SUMMARY:CLOSED
DESCRIPTION:The Pearl is CLOSED on Mondays. See you next Tuesday!
URL:https://thepearldenver.com/event/closed/2025-05-12/
LOCATION:CO
END:VEVENT
BEGIN:VEVENT
DTSTART;TZID=America/Denver:20250511T200000
DTEND;TZID=America/Denver:20250512T000000
DTSTAMP:20260422T021101
CREATED:20250513T165224Z
LAST-MODIFIED:20250725T191754Z
UID:10004447-1746993600-1747008000@thepearldenver.com
SUMMARY:Pearl Slam
DESCRIPTION:Come out and slam this evening at @thepearldenver and try your hand for $50 and the fame and glory of a Sunday 🏆🏆🏆
URL:https://thepearldenver.com/event/pearl-slam/2025-05-11/
LOCATION:The Jungle Room (Lower Level of The Pearl)\, 2195 California St\, Denver\, CO\, 80205\, United States
ATTACH;FMTTYPE=image/png:https://thepearldenver.com/wp-content/uploads/2025/05/Screenshot-2025-05-13-at-10.53.01 AM.png
END:VEVENT
END:VCALENDAR