BEGIN:VCALENDAR
VERSION:2.0
PRODID:-//The Pearl - ECPv6.15.20//NONSGML v1.0//EN
CALSCALE:GREGORIAN
METHOD:PUBLISH
X-WR-CALNAME:The Pearl
X-ORIGINAL-URL:https://thepearldenver.com
X-WR-CALDESC:Events for The Pearl
REFRESH-INTERVAL;VALUE=DURATION:PT1H
X-Robots-Tag:noindex
X-PUBLISHED-TTL:PT1H
BEGIN:VTIMEZONE
TZID:America/Denver
BEGIN:DAYLIGHT
TZOFFSETFROM:-0700
TZOFFSETTO:-0600
TZNAME:MDT
DTSTART:20240310T090000
END:DAYLIGHT
BEGIN:STANDARD
TZOFFSETFROM:-0600
TZOFFSETTO:-0700
TZNAME:MST
DTSTART:20241103T080000
END:STANDARD
BEGIN:DAYLIGHT
TZOFFSETFROM:-0700
TZOFFSETTO:-0600
TZNAME:MDT
DTSTART:20250309T090000
END:DAYLIGHT
BEGIN:STANDARD
TZOFFSETFROM:-0600
TZOFFSETTO:-0700
TZNAME:MST
DTSTART:20251102T080000
END:STANDARD
BEGIN:DAYLIGHT
TZOFFSETFROM:-0700
TZOFFSETTO:-0600
TZNAME:MDT
DTSTART:20260308T090000
END:DAYLIGHT
BEGIN:STANDARD
TZOFFSETFROM:-0600
TZOFFSETTO:-0700
TZNAME:MST
DTSTART:20261101T080000
END:STANDARD
END:VTIMEZONE
BEGIN:VEVENT
DTSTART;TZID=America/Denver:20250905T210000
DTEND;TZID=America/Denver:20250906T000000
DTSTAMP:20260420T195734
CREATED:20250510T023544Z
LAST-MODIFIED:20250916T201319Z
UID:10003941-1757106000-1757116800@thepearldenver.com
SUMMARY:Poetry Open Mic
DESCRIPTION:Poets are invited to rock the mic\, backed up by the musical ensemble Art Compost and the Word Mechanics.
URL:https://thepearldenver.com/event/poetry-open-mic/2025-09-05/
LOCATION:The Rose Room (Lower Level of The Pearl)\, 2195 California St\, Denver\, CO\, 80205\, United States
ATTACH;FMTTYPE=image/jpeg:https://thepearldenver.com/wp-content/uploads/2025/05/496600697_18243475690305035_8434641685192358071_n.jpg
END:VEVENT
BEGIN:VEVENT
DTSTART;TZID=America/Denver:20250905T180000
DTEND;TZID=America/Denver:20250905T210000
DTSTAMP:20260420T195734
CREATED:20250513T171254Z
LAST-MODIFIED:20250725T191951Z
UID:10003680-1757095200-1757106000@thepearldenver.com
SUMMARY:The Pearl Jam
DESCRIPTION:Weekly community Jazz Jam. Sign up to play with the host at 6\, or any time during the Jam!
URL:https://thepearldenver.com/event/jazz-jam/2025-09-05/
LOCATION:The Jungle Room (Lower Level of The Pearl)\, 2195 California St\, Denver\, CO\, 80205\, United States
ATTACH;FMTTYPE=image/jpeg:https://thepearldenver.com/wp-content/uploads/2025/05/489989224_18366981826130201_7729045706445498532_n.jpg
END:VEVENT
BEGIN:VEVENT
DTSTART;TZID=America/Denver:20250904T190000
DTEND;TZID=America/Denver:20250904T230000
DTSTAMP:20260420T195734
CREATED:20250902T170251Z
LAST-MODIFIED:20250902T170350Z
UID:10006716-1757012400-1757026800@thepearldenver.com
SUMMARY:Talia Keys: Glowin' Golden Tour
DESCRIPTION:TALIA KEYS🔥 GLOWIN’ & GOIN’ ON TOUR!\nI’ll be bringing the music\, the message\, and the movement to your city.\nwith special guests; The Non-Renewed and Madison Hailstorm \n-Solo live looping electric guitar\, synth\, drum pad\, and vocals!! \n🌟 GLOWIN’ GOLDEN TOUR 🌟\n📍 9/4 – Denver\, CO\n📍 Doors: 7p\n📍 Show: 8p -11p\n📍$15 cover \n🎟️ Come through: taliakeys.com
URL:https://thepearldenver.com/event/talia-keys-glowin-golden-tour/
LOCATION:The Warehouse (Upper Level of The Pearl)\, 2195 California St\, Denver\, CO\, 80205\, United States
ATTACH;FMTTYPE=image/webp:https://thepearldenver.com/wp-content/uploads/2025/09/22234588.webp
END:VEVENT
BEGIN:VEVENT
DTSTART;TZID=America/Denver:20250903T190000
DTEND;TZID=America/Denver:20250903T200000
DTSTAMP:20260420T195735
CREATED:20250513T170843Z
LAST-MODIFIED:20260128T210923Z
UID:10003419-1756926000-1756929600@thepearldenver.com
SUMMARY:West Coast Swing Beginner Class
DESCRIPTION:Colorado’s second largest night of West Coast Swing dancing happens every Wednesday in downtown Denver at The Pearl! \nDress is casual. Partner not required. Wear comfortable shoes (preferably not rubber soled). \nCASH NOT ACCEPTED \nIntermediate Lesson\n6:00 PM – 7:00 PM \nBeginner Lesson\n7:00 PM – 8:00 PM \nDance\n8:00 PM – 11:45 PM \n$10 Cover includes lesson and dance!
URL:https://thepearldenver.com/event/west-coast-swing-beginner-class/2025-09-03/
LOCATION:The Warehouse (Upper Level of The Pearl)\, 2195 California St\, Denver\, CO\, 80205\, United States
ATTACH;FMTTYPE=image/jpeg:https://thepearldenver.com/wp-content/uploads/2025/05/Wednesday-NIGHTS-jan-2023.jpeg
END:VEVENT
BEGIN:VEVENT
DTSTART;TZID=America/Denver:20250903T180000
DTEND;TZID=America/Denver:20250903T190000
DTSTAMP:20260420T195735
CREATED:20250513T170806Z
LAST-MODIFIED:20260128T211106Z
UID:10003156-1756922400-1756926000@thepearldenver.com
SUMMARY:West Coast Swing Intermediate Class
DESCRIPTION:Colorado’s second largest night of West Coast Swing dancing happens every Wednesday in downtown Denver at The Pearl! \nDress is casual. Partner not required. Wear comfortable shoes (preferably not rubber soled). \nCASH NOT ACCEPTED \nIntermediate Lesson\n6:00 PM – 7:00 PM \nBeginner Lesson\n7:00 PM – 8:00 PM \nDance\n8:00 PM – 11:45 PM \n$10 Cover includes lesson and dance!
URL:https://thepearldenver.com/event/west-coast-swing-intermediate-class/2025-09-03/
LOCATION:The Warehouse (Upper Level of The Pearl)\, 2195 California St\, Denver\, CO\, 80205\, United States
ATTACH;FMTTYPE=image/jpeg:https://thepearldenver.com/wp-content/uploads/2025/05/Wednesday-NIGHTS-jan-2023.jpeg
END:VEVENT
BEGIN:VEVENT
DTSTART;TZID=America/Denver:20250902T200000
DTEND;TZID=America/Denver:20250903T000000
DTSTAMP:20260420T195735
CREATED:20250513T170540Z
LAST-MODIFIED:20250725T191908Z
UID:10002895-1756843200-1756857600@thepearldenver.com
SUMMARY:The Lindy Jam! Lindy Hop Social Dance w/ DJ
DESCRIPTION:Join our regular weekly Swing Nights’ Lindy Jam\, with DJ’s playing hot vintage tracks\, and all the rest come out to dance.  A Denver Classic! \nCome to class beforehand and join in all the fun! (Classes sold separately: take a class and save $2 off cover!) \n$13.00
URL:https://thepearldenver.com/event/the-lindy-jam/2025-09-02/
LOCATION:The Warehouse (Upper Level of The Pearl)\, 2195 California St\, Denver\, CO\, 80205\, United States
ATTACH;FMTTYPE=image/jpeg:https://thepearldenver.com/wp-content/uploads/2025/05/swinghome3-e1647641187821.jpg
ORGANIZER;CN="Swing Nights":MAILTO:info@swingnights.com
END:VEVENT
BEGIN:VEVENT
DTSTART;TZID=America/Denver:20250902T190000
DTEND;TZID=America/Denver:20250902T210000
DTSTAMP:20260420T195735
CREATED:20250510T023147Z
LAST-MODIFIED:20251121T191958Z
UID:10000278-1756839600-1756846800@thepearldenver.com
SUMMARY:Trivia
DESCRIPTION:
URL:https://thepearldenver.com/event/trivia/2025-09-02/
LOCATION:The Rose Room (Lower Level of The Pearl)\, 2195 California St\, Denver\, CO\, 80205\, United States
ATTACH;FMTTYPE=image/png:https://thepearldenver.com/wp-content/uploads/2025/05/rose_room_.png
END:VEVENT
BEGIN:VEVENT
DTSTART;TZID=America/Denver:20250902T190000
DTEND;TZID=America/Denver:20250902T200000
DTSTAMP:20260420T195735
CREATED:20250513T170005Z
LAST-MODIFIED:20250725T191848Z
UID:10005420-1756839600-1756843200@thepearldenver.com
SUMMARY:Intermediate Lindy Hop Lessons!
DESCRIPTION:Ready to grow? Refine your basics and be challenged by new rhythms\, steps\, and moves every week! \nINTERMEDIATE LINDY HOP – 7:00 PM\nA great way to improve your repertoire! Once you have the basics nailed (we suggest taking the 6:00 PM Beginning class for at least two months) hop on up to this class! There’s a different focus each month\, so check the Swing Nights website for the current theme and to sign-up in advance! \nClass is held every Tuesday at The Pearl\, with a DJ’ed social dance\, the Lindy Jam\, afterward from 8-midnight! \nReserve your spot (or drop-ins welcome) $10 per student per class\, or $15 for both classes\nThe Lindy Jam\, our social dance afterwards\, is $13 (but take a class\, and get $2 off cover)\n*classes and dance sold separately
URL:https://thepearldenver.com/event/intermediate-lindy-hop-lessons/2025-09-02/
LOCATION:The Warehouse (Upper Level of The Pearl)\, 2195 California St\, Denver\, CO\, 80205\, United States
ATTACH;FMTTYPE=image/jpeg:https://thepearldenver.com/wp-content/uploads/2025/05/IntermediateLindySwing.jpg
ORGANIZER;CN="Swing Nights":MAILTO:info@swingnights.com
END:VEVENT
BEGIN:VEVENT
DTSTART;TZID=America/Denver:20250902T180000
DTEND;TZID=America/Denver:20250902T190000
DTSTAMP:20260420T195735
CREATED:20250513T170134Z
LAST-MODIFIED:20250725T191821Z
UID:10002634-1756836000-1756839600@thepearldenver.com
SUMMARY:Beginning Lindy Hop Lessons!
DESCRIPTION:Let’s have some fun! Join us and learn the original partnered swing dance from Harlem\, NY! Lindy Hop is a joyful dance bound to put a smile on your face. \nBEGINNING LINDY HOP – 6:00 PM\nThis is a progressive series for the beginner Lindy Hopper. We start from square one\, teaching the basic rhythms\, footwork\, and technique. By the end\, you’ll have several classic moves to use on the social dance floor! Each class builds upon the previous one\, so sign up for the whole month. \nOnce you have the basics down\, join us for… \nINTERMEDIATE LINDY HOP – 7:00 PM\nA great way to improve your repertoire! Once you have the basics nailed (we suggest taking the Beginning class for at least two months) hop on up to this class! There’s a different focus each month\, so check the Swing Nights website for the current theme and to sign-up in advance! \nClass is held every Tuesday at The Pearl\, with a DJ’ed social dance\, the Lindy Jam\, afterward from 8-midnight! \nReserve your spot (or drop-ins welcome) $10 per student per class\, or $15 for both classes\nThe Lindy Jam\, our social dance afterwards\, is $13 (but take a class\, and get $2 off cover)\n*classes and dance sold separately
URL:https://thepearldenver.com/event/beginning-lindy-hop-lessons/2025-09-02/
LOCATION:The Warehouse (Upper Level of The Pearl)\, 2195 California St\, Denver\, CO\, 80205\, United States
ATTACH;FMTTYPE=image/jpeg:https://thepearldenver.com/wp-content/uploads/2025/05/BeginningLindySwing.jpg
ORGANIZER;CN="Swing Nights":MAILTO:info@swingnights.com
END:VEVENT
BEGIN:VEVENT
DTSTART;VALUE=DATE:20250901
DTEND;VALUE=DATE:20250903
DTSTAMP:20260420T195735
CREATED:20250510T022939Z
LAST-MODIFIED:20251222T004908Z
UID:10006887-1756699200-1756785599@thepearldenver.com
SUMMARY:CLOSED
DESCRIPTION:The Pearl is CLOSED on Mondays. See you next Tuesday!
URL:https://thepearldenver.com/event/closed/2025-09-01/
LOCATION:CO
END:VEVENT
BEGIN:VEVENT
DTSTART;TZID=America/Denver:20250831T200000
DTEND;TZID=America/Denver:20250901T000000
DTSTAMP:20260420T195735
CREATED:20250513T165224Z
LAST-MODIFIED:20250725T191754Z
UID:10004463-1756670400-1756684800@thepearldenver.com
SUMMARY:Pearl Slam
DESCRIPTION:Come out and slam this evening at @thepearldenver and try your hand for $50 and the fame and glory of a Sunday 🏆🏆🏆
URL:https://thepearldenver.com/event/pearl-slam/2025-08-31/
LOCATION:The Jungle Room (Lower Level of The Pearl)\, 2195 California St\, Denver\, CO\, 80205\, United States
ATTACH;FMTTYPE=image/png:https://thepearldenver.com/wp-content/uploads/2025/05/Screenshot-2025-05-13-at-10.53.01 AM.png
END:VEVENT
BEGIN:VEVENT
DTSTART;TZID=America/Denver:20250831T183000
DTEND;TZID=America/Denver:20250831T200000
DTSTAMP:20260420T195735
CREATED:20250513T173436Z
LAST-MODIFIED:20250725T192058Z
UID:10004904-1756665000-1756670400@thepearldenver.com
SUMMARY:Beginning East Coast Swing!
DESCRIPTION:Whether it’s your first or your thousandth time\, you can’t beat Sunday nights at the Mercury Cafe for their fun\, energy\, and value! Each week we teach the basics of East Coast Swing (aka 6-count Lindy) plus a few moves and tricks to show off at the dance. This class is Beginner-focused\, but we change the moves every week\, so you can keep coming back for more! Drop-ins\, singles couples\, families\, and groups are all welcome. \n$18.00 Both Classes (5:30 class included) + Social Dance = best deal in town!
URL:https://thepearldenver.com/event/beginning-east-coast-swing/2025-08-31/
LOCATION:The Warehouse (Upper Level of The Pearl)\, 2195 California St\, Denver\, CO\, 80205\, United States
ATTACH;FMTTYPE=image/jpeg:https://thepearldenver.com/wp-content/uploads/2025/05/MercDancehall-1024x684-1.jpg
ORGANIZER;CN="Swing Nights":MAILTO:info@swingnights.com
END:VEVENT
BEGIN:VEVENT
DTSTART;TZID=America/Denver:20250831T180000
DTEND;TZID=America/Denver:20250831T200000
DTSTAMP:20260420T195735
CREATED:20250513T172529Z
LAST-MODIFIED:20250725T192051Z
UID:10004201-1756663200-1756670400@thepearldenver.com
SUMMARY:Jam B4 the Slam
DESCRIPTION:
URL:https://thepearldenver.com/event/jam-b4-the-slam/2025-08-31/
LOCATION:The Jungle Room (Lower Level of The Pearl)\, 2195 California St\, Denver\, CO\, 80205\, United States
ATTACH;FMTTYPE=image/png:https://thepearldenver.com/wp-content/uploads/2025/05/jungle_room_.png
END:VEVENT
BEGIN:VEVENT
DTSTART;TZID=America/Denver:20250830T200000
DTEND;TZID=America/Denver:20250830T223000
DTSTAMP:20260420T195735
CREATED:20250715T162851Z
LAST-MODIFIED:20250725T191426Z
UID:10006227-1756584000-1756593000@thepearldenver.com
SUMMARY:Suitable Miss w/ Underseer & All My Senses LIVE in Denver
DESCRIPTION:LIVE EMO/POST-HARDCORE/METALCORE BANDS AT THE PEARL ON AUGUST 30TH
URL:https://thepearldenver.com/event/suitable-miss-w-underseer-all-my-senses-live-in-denver/
LOCATION:The Warehouse (Upper Level of The Pearl)\, 2195 California St\, Denver\, CO\, 80205\, United States
ATTACH;FMTTYPE=image/jpeg:https://thepearldenver.com/wp-content/uploads/2025/07/509622542_18131717467428140_1283410969758158114_n-1.jpg
END:VEVENT
BEGIN:VEVENT
DTSTART;TZID=America/Denver:20250829T210000
DTEND;TZID=America/Denver:20250830T000000
DTSTAMP:20260420T195735
CREATED:20250510T023544Z
LAST-MODIFIED:20250916T201319Z
UID:10003940-1756501200-1756512000@thepearldenver.com
SUMMARY:Poetry Open Mic
DESCRIPTION:Poets are invited to rock the mic\, backed up by the musical ensemble Art Compost and the Word Mechanics.
URL:https://thepearldenver.com/event/poetry-open-mic/2025-08-29/
LOCATION:The Rose Room (Lower Level of The Pearl)\, 2195 California St\, Denver\, CO\, 80205\, United States
ATTACH;FMTTYPE=image/jpeg:https://thepearldenver.com/wp-content/uploads/2025/05/496600697_18243475690305035_8434641685192358071_n.jpg
END:VEVENT
BEGIN:VEVENT
DTSTART;TZID=America/Denver:20250829T200000
DTEND;TZID=America/Denver:20250830T020000
DTSTAMP:20260420T195735
CREATED:20250715T160802Z
LAST-MODIFIED:20250715T160802Z
UID:10006222-1756497600-1756519200@thepearldenver.com
SUMMARY:Two Sisterzz Sapphic HeatRAVE
DESCRIPTION:🔥 A summer HeatRAVE coming in HAWT🔥\nSapphic babes\, come get sweaty with us!! \n@twosisterzz returns for one night only! Missed them at Pride? Here’s your second chance! 💥🎶🌈\n💦 A bass-thumping\, body-moving\, queer dance party. Dress to drip\, dance to melt 🫠 \n📍 The Pearl @thepearldenver\n📅 Friday\, August 29th\, 8:00 pm to close.\n🎟️ Tickets are on sale now! Grab that early bird ticket while they last! \n#HeatRAVE #Sapphic #Rave #Denver #DanceParty #Queer #TwoSisterzz #FemaleDJ #ThePearlDenver #Nightlife #MissFittsEntertainment #SapphicVibes #lgbtqia #QueerRave #GetSweaty #QueerNightlife #ThingsToDo #MFEevents #Entertainment
URL:https://thepearldenver.com/event/two-sisterzz-sapphic-heatrave/
LOCATION:The Warehouse (Upper Level of The Pearl)\, 2195 California St\, Denver\, CO\, 80205\, United States
ATTACH;FMTTYPE=image/jpeg:https://thepearldenver.com/wp-content/uploads/2025/07/517362392_17990360249816947_6387517602645670751_n.jpg
END:VEVENT
BEGIN:VEVENT
DTSTART;TZID=America/Denver:20250829T180000
DTEND;TZID=America/Denver:20250829T210000
DTSTAMP:20260420T195735
CREATED:20250513T171254Z
LAST-MODIFIED:20250725T191951Z
UID:10003679-1756490400-1756501200@thepearldenver.com
SUMMARY:The Pearl Jam
DESCRIPTION:Weekly community Jazz Jam. Sign up to play with the host at 6\, or any time during the Jam!
URL:https://thepearldenver.com/event/jazz-jam/2025-08-29/
LOCATION:The Jungle Room (Lower Level of The Pearl)\, 2195 California St\, Denver\, CO\, 80205\, United States
ATTACH;FMTTYPE=image/jpeg:https://thepearldenver.com/wp-content/uploads/2025/05/489989224_18366981826130201_7729045706445498532_n.jpg
END:VEVENT
BEGIN:VEVENT
DTSTART;TZID=America/Denver:20250828T180000
DTEND;TZID=America/Denver:20250828T233000
DTSTAMP:20260420T195735
CREATED:20250806T213655Z
LAST-MODIFIED:20250806T213656Z
UID:10006437-1756404000-1756423800@thepearldenver.com
SUMMARY:For The Love of Local Music
DESCRIPTION:Come out and support our local music scene at The Pearl – For The Love Of Local Music – brought to you by The Curio Cabinet Music Desk. \nWelcome to For The Love Of Local Music! Join us at the The Pearl for a night filled with amazing tunes from talented local artists. Get ready to groove\, sing along\, and support our vibrant music community with sets from DJ Bugs Honey\, Chiino\, Keddjra\, Jade Oracle\, Shadow Work and a mystery headliner… guess our secret act on instagram and win a free ticket!
URL:https://thepearldenver.com/event/for-the-love-of-local-music/
LOCATION:The Warehouse (Upper Level of The Pearl)\, 2195 California St\, Denver\, CO\, 80205\, United States
ATTACH;FMTTYPE=image/jpeg:https://thepearldenver.com/wp-content/uploads/2025/08/IMG_3946.jpeg
END:VEVENT
BEGIN:VEVENT
DTSTART;TZID=America/Denver:20250827T190000
DTEND;TZID=America/Denver:20250827T200000
DTSTAMP:20260420T195735
CREATED:20250513T170843Z
LAST-MODIFIED:20260128T210923Z
UID:10003418-1756321200-1756324800@thepearldenver.com
SUMMARY:West Coast Swing Beginner Class
DESCRIPTION:Colorado’s second largest night of West Coast Swing dancing happens every Wednesday in downtown Denver at The Pearl! \nDress is casual. Partner not required. Wear comfortable shoes (preferably not rubber soled). \nCASH NOT ACCEPTED \nIntermediate Lesson\n6:00 PM – 7:00 PM \nBeginner Lesson\n7:00 PM – 8:00 PM \nDance\n8:00 PM – 11:45 PM \n$10 Cover includes lesson and dance!
URL:https://thepearldenver.com/event/west-coast-swing-beginner-class/2025-08-27/
LOCATION:The Warehouse (Upper Level of The Pearl)\, 2195 California St\, Denver\, CO\, 80205\, United States
ATTACH;FMTTYPE=image/jpeg:https://thepearldenver.com/wp-content/uploads/2025/05/Wednesday-NIGHTS-jan-2023.jpeg
END:VEVENT
BEGIN:VEVENT
DTSTART;TZID=America/Denver:20250827T180000
DTEND;TZID=America/Denver:20250827T190000
DTSTAMP:20260420T195735
CREATED:20250513T170806Z
LAST-MODIFIED:20260128T211106Z
UID:10003155-1756317600-1756321200@thepearldenver.com
SUMMARY:West Coast Swing Intermediate Class
DESCRIPTION:Colorado’s second largest night of West Coast Swing dancing happens every Wednesday in downtown Denver at The Pearl! \nDress is casual. Partner not required. Wear comfortable shoes (preferably not rubber soled). \nCASH NOT ACCEPTED \nIntermediate Lesson\n6:00 PM – 7:00 PM \nBeginner Lesson\n7:00 PM – 8:00 PM \nDance\n8:00 PM – 11:45 PM \n$10 Cover includes lesson and dance!
URL:https://thepearldenver.com/event/west-coast-swing-intermediate-class/2025-08-27/
LOCATION:The Warehouse (Upper Level of The Pearl)\, 2195 California St\, Denver\, CO\, 80205\, United States
ATTACH;FMTTYPE=image/jpeg:https://thepearldenver.com/wp-content/uploads/2025/05/Wednesday-NIGHTS-jan-2023.jpeg
END:VEVENT
BEGIN:VEVENT
DTSTART;TZID=America/Denver:20250826T200000
DTEND;TZID=America/Denver:20250827T000000
DTSTAMP:20260420T195735
CREATED:20250513T170540Z
LAST-MODIFIED:20250725T191908Z
UID:10002894-1756238400-1756252800@thepearldenver.com
SUMMARY:The Lindy Jam! Lindy Hop Social Dance w/ DJ
DESCRIPTION:Join our regular weekly Swing Nights’ Lindy Jam\, with DJ’s playing hot vintage tracks\, and all the rest come out to dance.  A Denver Classic! \nCome to class beforehand and join in all the fun! (Classes sold separately: take a class and save $2 off cover!) \n$13.00
URL:https://thepearldenver.com/event/the-lindy-jam/2025-08-26/
LOCATION:The Warehouse (Upper Level of The Pearl)\, 2195 California St\, Denver\, CO\, 80205\, United States
ATTACH;FMTTYPE=image/jpeg:https://thepearldenver.com/wp-content/uploads/2025/05/swinghome3-e1647641187821.jpg
ORGANIZER;CN="Swing Nights":MAILTO:info@swingnights.com
END:VEVENT
BEGIN:VEVENT
DTSTART;TZID=America/Denver:20250826T190000
DTEND;TZID=America/Denver:20250826T210000
DTSTAMP:20260420T195735
CREATED:20250510T023147Z
LAST-MODIFIED:20251121T191958Z
UID:10000277-1756234800-1756242000@thepearldenver.com
SUMMARY:Trivia
DESCRIPTION:
URL:https://thepearldenver.com/event/trivia/2025-08-26/
LOCATION:The Rose Room (Lower Level of The Pearl)\, 2195 California St\, Denver\, CO\, 80205\, United States
ATTACH;FMTTYPE=image/png:https://thepearldenver.com/wp-content/uploads/2025/05/rose_room_.png
END:VEVENT
BEGIN:VEVENT
DTSTART;TZID=America/Denver:20250826T190000
DTEND;TZID=America/Denver:20250826T200000
DTSTAMP:20260420T195735
CREATED:20250513T170005Z
LAST-MODIFIED:20250725T191848Z
UID:10005419-1756234800-1756238400@thepearldenver.com
SUMMARY:Intermediate Lindy Hop Lessons!
DESCRIPTION:Ready to grow? Refine your basics and be challenged by new rhythms\, steps\, and moves every week! \nINTERMEDIATE LINDY HOP – 7:00 PM\nA great way to improve your repertoire! Once you have the basics nailed (we suggest taking the 6:00 PM Beginning class for at least two months) hop on up to this class! There’s a different focus each month\, so check the Swing Nights website for the current theme and to sign-up in advance! \nClass is held every Tuesday at The Pearl\, with a DJ’ed social dance\, the Lindy Jam\, afterward from 8-midnight! \nReserve your spot (or drop-ins welcome) $10 per student per class\, or $15 for both classes\nThe Lindy Jam\, our social dance afterwards\, is $13 (but take a class\, and get $2 off cover)\n*classes and dance sold separately
URL:https://thepearldenver.com/event/intermediate-lindy-hop-lessons/2025-08-26/
LOCATION:The Warehouse (Upper Level of The Pearl)\, 2195 California St\, Denver\, CO\, 80205\, United States
ATTACH;FMTTYPE=image/jpeg:https://thepearldenver.com/wp-content/uploads/2025/05/IntermediateLindySwing.jpg
ORGANIZER;CN="Swing Nights":MAILTO:info@swingnights.com
END:VEVENT
BEGIN:VEVENT
DTSTART;TZID=America/Denver:20250826T180000
DTEND;TZID=America/Denver:20250826T190000
DTSTAMP:20260420T195735
CREATED:20250513T170134Z
LAST-MODIFIED:20250725T191821Z
UID:10002633-1756231200-1756234800@thepearldenver.com
SUMMARY:Beginning Lindy Hop Lessons!
DESCRIPTION:Let’s have some fun! Join us and learn the original partnered swing dance from Harlem\, NY! Lindy Hop is a joyful dance bound to put a smile on your face. \nBEGINNING LINDY HOP – 6:00 PM\nThis is a progressive series for the beginner Lindy Hopper. We start from square one\, teaching the basic rhythms\, footwork\, and technique. By the end\, you’ll have several classic moves to use on the social dance floor! Each class builds upon the previous one\, so sign up for the whole month. \nOnce you have the basics down\, join us for… \nINTERMEDIATE LINDY HOP – 7:00 PM\nA great way to improve your repertoire! Once you have the basics nailed (we suggest taking the Beginning class for at least two months) hop on up to this class! There’s a different focus each month\, so check the Swing Nights website for the current theme and to sign-up in advance! \nClass is held every Tuesday at The Pearl\, with a DJ’ed social dance\, the Lindy Jam\, afterward from 8-midnight! \nReserve your spot (or drop-ins welcome) $10 per student per class\, or $15 for both classes\nThe Lindy Jam\, our social dance afterwards\, is $13 (but take a class\, and get $2 off cover)\n*classes and dance sold separately
URL:https://thepearldenver.com/event/beginning-lindy-hop-lessons/2025-08-26/
LOCATION:The Warehouse (Upper Level of The Pearl)\, 2195 California St\, Denver\, CO\, 80205\, United States
ATTACH;FMTTYPE=image/jpeg:https://thepearldenver.com/wp-content/uploads/2025/05/BeginningLindySwing.jpg
ORGANIZER;CN="Swing Nights":MAILTO:info@swingnights.com
END:VEVENT
BEGIN:VEVENT
DTSTART;VALUE=DATE:20250825
DTEND;VALUE=DATE:20250827
DTSTAMP:20260420T195735
CREATED:20250510T022939Z
LAST-MODIFIED:20251222T004908Z
UID:10006886-1756094400-1756180799@thepearldenver.com
SUMMARY:CLOSED
DESCRIPTION:The Pearl is CLOSED on Mondays. See you next Tuesday!
URL:https://thepearldenver.com/event/closed/2025-08-25/
LOCATION:CO
END:VEVENT
BEGIN:VEVENT
DTSTART;TZID=America/Denver:20250824T200000
DTEND;TZID=America/Denver:20250825T000000
DTSTAMP:20260420T195735
CREATED:20250513T165224Z
LAST-MODIFIED:20250725T191754Z
UID:10004462-1756065600-1756080000@thepearldenver.com
SUMMARY:Pearl Slam
DESCRIPTION:Come out and slam this evening at @thepearldenver and try your hand for $50 and the fame and glory of a Sunday 🏆🏆🏆
URL:https://thepearldenver.com/event/pearl-slam/2025-08-24/
LOCATION:The Jungle Room (Lower Level of The Pearl)\, 2195 California St\, Denver\, CO\, 80205\, United States
ATTACH;FMTTYPE=image/png:https://thepearldenver.com/wp-content/uploads/2025/05/Screenshot-2025-05-13-at-10.53.01 AM.png
END:VEVENT
BEGIN:VEVENT
DTSTART;TZID=America/Denver:20250824T183000
DTEND;TZID=America/Denver:20250824T200000
DTSTAMP:20260420T195735
CREATED:20250513T173436Z
LAST-MODIFIED:20250725T192058Z
UID:10004903-1756060200-1756065600@thepearldenver.com
SUMMARY:Beginning East Coast Swing!
DESCRIPTION:Whether it’s your first or your thousandth time\, you can’t beat Sunday nights at the Mercury Cafe for their fun\, energy\, and value! Each week we teach the basics of East Coast Swing (aka 6-count Lindy) plus a few moves and tricks to show off at the dance. This class is Beginner-focused\, but we change the moves every week\, so you can keep coming back for more! Drop-ins\, singles couples\, families\, and groups are all welcome. \n$18.00 Both Classes (5:30 class included) + Social Dance = best deal in town!
URL:https://thepearldenver.com/event/beginning-east-coast-swing/2025-08-24/
LOCATION:The Warehouse (Upper Level of The Pearl)\, 2195 California St\, Denver\, CO\, 80205\, United States
ATTACH;FMTTYPE=image/jpeg:https://thepearldenver.com/wp-content/uploads/2025/05/MercDancehall-1024x684-1.jpg
ORGANIZER;CN="Swing Nights":MAILTO:info@swingnights.com
END:VEVENT
BEGIN:VEVENT
DTSTART;TZID=America/Denver:20250824T180000
DTEND;TZID=America/Denver:20250824T200000
DTSTAMP:20260420T195735
CREATED:20250513T172529Z
LAST-MODIFIED:20250725T192051Z
UID:10004200-1756058400-1756065600@thepearldenver.com
SUMMARY:Jam B4 the Slam
DESCRIPTION:
URL:https://thepearldenver.com/event/jam-b4-the-slam/2025-08-24/
LOCATION:The Jungle Room (Lower Level of The Pearl)\, 2195 California St\, Denver\, CO\, 80205\, United States
ATTACH;FMTTYPE=image/png:https://thepearldenver.com/wp-content/uploads/2025/05/jungle_room_.png
END:VEVENT
BEGIN:VEVENT
DTSTART;TZID=America/Denver:20250824T173000
DTEND;TZID=America/Denver:20250824T183000
DTSTAMP:20260420T195735
CREATED:20250513T173531Z
LAST-MODIFIED:20250725T192111Z
UID:10005153-1756056600-1756060200@thepearldenver.com
SUMMARY:Beginning Lead & Follow Technique!
DESCRIPTION:Whether it’s your first or your thousandth time\, you can’t beat Sunday nights at the Mercury Cafe for their fun\, energy\, and value!  The fourth Sunday of every month\, the 5:30 class is our favorite: Beginning Lead & Follow Technique! In it\, we’ll teach you everything we wish we knew as a Beginning Lindy Hopper on Day 1. Drop-ins\, singles\, couples\, families\, and groups are all welcome. \nFor questions about this event\, please contact the event organizer listed below \n$18.00 Includes social dance
URL:https://thepearldenver.com/event/beginning-lead-follow-technique/2025-08-24/
LOCATION:The Warehouse (Upper Level of The Pearl)\, 2195 California St\, Denver\, CO\, 80205\, United States
ATTACH;FMTTYPE=image/jpeg:https://thepearldenver.com/wp-content/uploads/2025/05/MercDancehall-1024x684-1.jpg
ORGANIZER;CN="Swing Nights":MAILTO:info@swingnights.com
END:VEVENT
BEGIN:VEVENT
DTSTART;TZID=America/Denver:20250822T210000
DTEND;TZID=America/Denver:20250823T000000
DTSTAMP:20260420T195735
CREATED:20250510T023544Z
LAST-MODIFIED:20250916T201319Z
UID:10003939-1755896400-1755907200@thepearldenver.com
SUMMARY:Poetry Open Mic
DESCRIPTION:Poets are invited to rock the mic\, backed up by the musical ensemble Art Compost and the Word Mechanics.
URL:https://thepearldenver.com/event/poetry-open-mic/2025-08-22/
LOCATION:The Rose Room (Lower Level of The Pearl)\, 2195 California St\, Denver\, CO\, 80205\, United States
ATTACH;FMTTYPE=image/jpeg:https://thepearldenver.com/wp-content/uploads/2025/05/496600697_18243475690305035_8434641685192358071_n.jpg
END:VEVENT
END:VCALENDAR