BEGIN:VCALENDAR
VERSION:2.0
PRODID:-//The Pearl - ECPv6.15.20//NONSGML v1.0//EN
CALSCALE:GREGORIAN
METHOD:PUBLISH
X-ORIGINAL-URL:https://thepearldenver.com
X-WR-CALDESC:Events for The Pearl
REFRESH-INTERVAL;VALUE=DURATION:PT1H
X-Robots-Tag:noindex
X-PUBLISHED-TTL:PT1H
BEGIN:VTIMEZONE
TZID:America/Denver
BEGIN:DAYLIGHT
TZOFFSETFROM:-0700
TZOFFSETTO:-0600
TZNAME:MDT
DTSTART:20250309T090000
END:DAYLIGHT
BEGIN:STANDARD
TZOFFSETFROM:-0600
TZOFFSETTO:-0700
TZNAME:MST
DTSTART:20251102T080000
END:STANDARD
BEGIN:DAYLIGHT
TZOFFSETFROM:-0700
TZOFFSETTO:-0600
TZNAME:MDT
DTSTART:20260308T090000
END:DAYLIGHT
BEGIN:STANDARD
TZOFFSETFROM:-0600
TZOFFSETTO:-0700
TZNAME:MST
DTSTART:20261101T080000
END:STANDARD
BEGIN:DAYLIGHT
TZOFFSETFROM:-0700
TZOFFSETTO:-0600
TZNAME:MDT
DTSTART:20270314T090000
END:DAYLIGHT
BEGIN:STANDARD
TZOFFSETFROM:-0600
TZOFFSETTO:-0700
TZNAME:MST
DTSTART:20271107T080000
END:STANDARD
END:VTIMEZONE
BEGIN:VEVENT
DTSTART;TZID=America/Denver:20260321T190000
DTEND;TZID=America/Denver:20260322T000000
DTSTAMP:20260419T073726
CREATED:20260218T190440Z
LAST-MODIFIED:20260218T190440Z
UID:10007747-1774119600-1774137600@thepearldenver.com
SUMMARY:Hitz of Yo Birth!
DESCRIPTION:Immersive Cabaret Event in Denver! \nMuva is bringing a hybrid sort of vibe for y’all! \nIt’s a Cabaret Show and a Wintery slash Spring Formal!\nAs things start to thaw and our bones begin to warm\, let’s heat up the night with a show and dance. \nCome join Haus VelvIT as we bring you on a journey of the Hitz that were bangin when we were all born! A show curated to highlight the music that quite possibly made us…. or that we were made to 🤭🤣. \nAnd be sure to hang around for the Formal Dance after to celebrate YOU!\nMaybe you never got to attend your school’s Formal? Maybe you didn’t get to attend with whom you wanted to attend?\nOr maybe you just want an excuse to dress up and come dance with us under the disco ball and lights? Either way…… Join us! \nSaturday March 21st\, 2026\nThe Pearl (warehouse)\n2195 California St \nDoors 6:30pm\nShow 7pm\nDance 9pm
URL:https://thepearldenver.com/event/hitz-of-yo-birth/
LOCATION:The Warehouse (Upper Level of The Pearl)\, 2195 California St\, Denver\, CO\, 80205\, United States
ATTACH;FMTTYPE=image/jpeg:https://thepearldenver.com/wp-content/uploads/2026/02/IMG_4425.jpg
END:VEVENT
END:VCALENDAR