BEGIN:VCALENDAR
VERSION:2.0
PRODID:-//The Pearl - ECPv6.15.20//NONSGML v1.0//EN
CALSCALE:GREGORIAN
METHOD:PUBLISH
X-WR-CALNAME:The Pearl
X-ORIGINAL-URL:https://thepearldenver.com
X-WR-CALDESC:Events for The Pearl
REFRESH-INTERVAL;VALUE=DURATION:PT1H
X-Robots-Tag:noindex
X-PUBLISHED-TTL:PT1H
BEGIN:VTIMEZONE
TZID:America/Denver
BEGIN:DAYLIGHT
TZOFFSETFROM:-0700
TZOFFSETTO:-0600
TZNAME:MDT
DTSTART:20250309T090000
END:DAYLIGHT
BEGIN:STANDARD
TZOFFSETFROM:-0600
TZOFFSETTO:-0700
TZNAME:MST
DTSTART:20251102T080000
END:STANDARD
BEGIN:DAYLIGHT
TZOFFSETFROM:-0700
TZOFFSETTO:-0600
TZNAME:MDT
DTSTART:20260308T090000
END:DAYLIGHT
BEGIN:STANDARD
TZOFFSETFROM:-0600
TZOFFSETTO:-0700
TZNAME:MST
DTSTART:20261101T080000
END:STANDARD
BEGIN:DAYLIGHT
TZOFFSETFROM:-0700
TZOFFSETTO:-0600
TZNAME:MDT
DTSTART:20270314T090000
END:DAYLIGHT
BEGIN:STANDARD
TZOFFSETFROM:-0600
TZOFFSETTO:-0700
TZNAME:MST
DTSTART:20271107T080000
END:STANDARD
END:VTIMEZONE
BEGIN:VEVENT
DTSTART;TZID=America/Denver:20260305T183000
DTEND;TZID=America/Denver:20260306T000000
DTSTAMP:20260419T085120
CREATED:20260206T182220Z
LAST-MODIFIED:20260206T182221Z
UID:10007618-1772735400-1772755200@thepearldenver.com
SUMMARY:Neutral Snap LIVE
DESCRIPTION:New Orleans pop punk band\, Neutral Snap\, is coming to Denver! Come jam with them and other local bands! \nOriginating from New Orleans\, Louisiana\, Neutral Snap is a pop-punk force lighting up the southeast US and beyond! Their sound explodes with chaotic fun\, delivering catchy hooks\, eruptive riffs\, and nostalgic breakdowns that ripple out from Louisiana to everywhere they play. The band’s latest EP\, I Hardly Know Her\, features songwriting contributions from Tom Denney (A Day to Remember)\, Fred Mascherino (Taking Back Sunday and Say Anything)\, and is available now on all major platforms! They will have amazing local openers such as Splintered Autumn\, Underseer\, & Suitable Miss! \n$15 presale / $20 at door
URL:https://thepearldenver.com/event/neutral-snap-live/
LOCATION:The Warehouse (Upper Level of The Pearl)\, 2195 California St\, Denver\, CO\, 80205\, United States
ATTACH;FMTTYPE=image/png:https://thepearldenver.com/wp-content/uploads/2026/02/IMG_3929.png
END:VEVENT
BEGIN:VEVENT
DTSTART;TZID=America/Denver:20260305T183000
DTEND;TZID=America/Denver:20260306T000000
DTSTAMP:20260419T085120
CREATED:20260218T185849Z
LAST-MODIFIED:20260218T185850Z
UID:10007683-1772735400-1772755200@thepearldenver.com
SUMMARY:Neutral Snap LIVE
DESCRIPTION:New Orleans pop punk band\, Neutral Snap\, is coming to Denver! Come jam with them and other local bands! \nOriginating from New Orleans\, Louisiana\, Neutral Snap is a pop-punk force lighting up the southeast US and beyond! Their sound explodes with chaotic fun\, delivering catchy hooks\, eruptive riffs\, and nostalgic breakdowns that ripple out from Louisiana to everywhere they play. The band’s latest EP\, I Hardly Know Her\, features songwriting contributions from Tom Denney (A Day to Remember)\, Fred Mascherino (Taking Back Sunday and Say Anything)\, and is available now on all major platforms! They will have amazing local openers such as Splintered Autumn\, Underseer\, & Suitable Miss!
URL:https://thepearldenver.com/event/neutral-snap-live-2/
LOCATION:The Warehouse (Upper Level of The Pearl)\, 2195 California St\, Denver\, CO\, 80205\, United States
ATTACH;FMTTYPE=image/png:https://thepearldenver.com/wp-content/uploads/2026/02/IMG_3929.png
END:VEVENT
END:VCALENDAR