BEGIN:VCALENDAR
VERSION:2.0
PRODID:-//The Pearl - ECPv6.15.20//NONSGML v1.0//EN
CALSCALE:GREGORIAN
METHOD:PUBLISH
X-WR-CALNAME:The Pearl
X-ORIGINAL-URL:https://thepearldenver.com
X-WR-CALDESC:Events for The Pearl
REFRESH-INTERVAL;VALUE=DURATION:PT1H
X-Robots-Tag:noindex
X-PUBLISHED-TTL:PT1H
BEGIN:VTIMEZONE
TZID:America/Denver
BEGIN:DAYLIGHT
TZOFFSETFROM:-0700
TZOFFSETTO:-0600
TZNAME:MDT
DTSTART:20240310T090000
END:DAYLIGHT
BEGIN:STANDARD
TZOFFSETFROM:-0600
TZOFFSETTO:-0700
TZNAME:MST
DTSTART:20241103T080000
END:STANDARD
BEGIN:DAYLIGHT
TZOFFSETFROM:-0700
TZOFFSETTO:-0600
TZNAME:MDT
DTSTART:20250309T090000
END:DAYLIGHT
BEGIN:STANDARD
TZOFFSETFROM:-0600
TZOFFSETTO:-0700
TZNAME:MST
DTSTART:20251102T080000
END:STANDARD
BEGIN:DAYLIGHT
TZOFFSETFROM:-0700
TZOFFSETTO:-0600
TZNAME:MDT
DTSTART:20260308T090000
END:DAYLIGHT
BEGIN:STANDARD
TZOFFSETFROM:-0600
TZOFFSETTO:-0700
TZNAME:MST
DTSTART:20261101T080000
END:STANDARD
END:VTIMEZONE
BEGIN:VEVENT
DTSTART;TZID=America/Denver:20251010T200000
DTEND;TZID=America/Denver:20251011T000000
DTSTAMP:20260420T071148
CREATED:20251006T205136Z
LAST-MODIFIED:20251006T205200Z
UID:2659-1760126400-1760140800@thepearldenver.com
SUMMARY:UPRISE: a local showcase
DESCRIPTION:🎤 UPRISE: A Local Showcase \nDenver\, it’s time to rise up. \nUPRISE is where Denver’s creative pulse comes alive. \nCurated by Hart Soirées and MissFitts Entertainment and co-produced by Riah\, this high energy showcase celebrates the city’s rising local talent through a night of live music and dynamic performances in the heart of Five Points. \nHeadlining the night is RIAH\, debuting her brand new album\, The Fourth Wall .. an intimate\, genre defying project that blurs the lines between audience and artist. Be the first to experience her new sound\, live and unfiltered. \nFrom genre bending musicians to surprise acts across multiple creative disciplines\, UPRISE is a platform for expression\, connection\, and discovery. Expect vibes\, visuals\, and a lineup that represents the raw\, diverse spirit of our city …. with more performances to be announced. \nWhether you’re here to support the scene or discover your new favorite artist\, UPRISE is the place to be. \nJoin the movement. Feel the energy. Be the UPRISE
URL:https://thepearldenver.com/event/uprise-a-local-showcase/
LOCATION:The Warehouse (Upper Level of The Pearl)\, 2195 California St\, Denver\, CO\, 80205\, United States
ATTACH;FMTTYPE=image/png:https://thepearldenver.com/wp-content/uploads/2025/10/6282181282323523688.png
END:VEVENT
END:VCALENDAR