BEGIN:VCALENDAR
VERSION:2.0
PRODID:-//The Pearl - ECPv6.15.20//NONSGML v1.0//EN
CALSCALE:GREGORIAN
METHOD:PUBLISH
X-WR-CALNAME:The Pearl
X-ORIGINAL-URL:https://thepearldenver.com
X-WR-CALDESC:Events for The Pearl
REFRESH-INTERVAL;VALUE=DURATION:PT1H
X-Robots-Tag:noindex
X-PUBLISHED-TTL:PT1H
BEGIN:VTIMEZONE
TZID:America/Denver
BEGIN:DAYLIGHT
TZOFFSETFROM:-0700
TZOFFSETTO:-0600
TZNAME:MDT
DTSTART:20240310T090000
END:DAYLIGHT
BEGIN:STANDARD
TZOFFSETFROM:-0600
TZOFFSETTO:-0700
TZNAME:MST
DTSTART:20241103T080000
END:STANDARD
BEGIN:DAYLIGHT
TZOFFSETFROM:-0700
TZOFFSETTO:-0600
TZNAME:MDT
DTSTART:20250309T090000
END:DAYLIGHT
BEGIN:STANDARD
TZOFFSETFROM:-0600
TZOFFSETTO:-0700
TZNAME:MST
DTSTART:20251102T080000
END:STANDARD
BEGIN:DAYLIGHT
TZOFFSETFROM:-0700
TZOFFSETTO:-0600
TZNAME:MDT
DTSTART:20260308T090000
END:DAYLIGHT
BEGIN:STANDARD
TZOFFSETFROM:-0600
TZOFFSETTO:-0700
TZNAME:MST
DTSTART:20261101T080000
END:STANDARD
END:VTIMEZONE
BEGIN:VEVENT
DTSTART;TZID=America/Denver:20250829T200000
DTEND;TZID=America/Denver:20250830T020000
DTSTAMP:20260420T213756
CREATED:20250715T160802Z
LAST-MODIFIED:20250715T160802Z
UID:1705-1756497600-1756519200@thepearldenver.com
SUMMARY:Two Sisterzz Sapphic HeatRAVE
DESCRIPTION:🔥 A summer HeatRAVE coming in HAWT🔥\nSapphic babes\, come get sweaty with us!! \n@twosisterzz returns for one night only! Missed them at Pride? Here’s your second chance! 💥🎶🌈\n💦 A bass-thumping\, body-moving\, queer dance party. Dress to drip\, dance to melt 🫠 \n📍 The Pearl @thepearldenver\n📅 Friday\, August 29th\, 8:00 pm to close.\n🎟️ Tickets are on sale now! Grab that early bird ticket while they last! \n#HeatRAVE #Sapphic #Rave #Denver #DanceParty #Queer #TwoSisterzz #FemaleDJ #ThePearlDenver #Nightlife #MissFittsEntertainment #SapphicVibes #lgbtqia #QueerRave #GetSweaty #QueerNightlife #ThingsToDo #MFEevents #Entertainment
URL:https://thepearldenver.com/event/two-sisterzz-sapphic-heatrave/
LOCATION:The Warehouse (Upper Level of The Pearl)\, 2195 California St\, Denver\, CO\, 80205\, United States
ATTACH;FMTTYPE=image/jpeg:https://thepearldenver.com/wp-content/uploads/2025/07/517362392_17990360249816947_6387517602645670751_n.jpg
END:VEVENT
END:VCALENDAR