BEGIN:VCALENDAR
VERSION:2.0
PRODID:-//The Pearl - ECPv6.15.20//NONSGML v1.0//EN
CALSCALE:GREGORIAN
METHOD:PUBLISH
X-WR-CALNAME:The Pearl
X-ORIGINAL-URL:https://thepearldenver.com
X-WR-CALDESC:Events for The Pearl
REFRESH-INTERVAL;VALUE=DURATION:PT1H
X-Robots-Tag:noindex
X-PUBLISHED-TTL:PT1H
BEGIN:VTIMEZONE
TZID:America/Denver
BEGIN:DAYLIGHT
TZOFFSETFROM:-0700
TZOFFSETTO:-0600
TZNAME:MDT
DTSTART:20240310T090000
END:DAYLIGHT
BEGIN:STANDARD
TZOFFSETFROM:-0600
TZOFFSETTO:-0700
TZNAME:MST
DTSTART:20241103T080000
END:STANDARD
BEGIN:DAYLIGHT
TZOFFSETFROM:-0700
TZOFFSETTO:-0600
TZNAME:MDT
DTSTART:20250309T090000
END:DAYLIGHT
BEGIN:STANDARD
TZOFFSETFROM:-0600
TZOFFSETTO:-0700
TZNAME:MST
DTSTART:20251102T080000
END:STANDARD
BEGIN:DAYLIGHT
TZOFFSETFROM:-0700
TZOFFSETTO:-0600
TZNAME:MDT
DTSTART:20260308T090000
END:DAYLIGHT
BEGIN:STANDARD
TZOFFSETFROM:-0600
TZOFFSETTO:-0700
TZNAME:MST
DTSTART:20261101T080000
END:STANDARD
END:VTIMEZONE
BEGIN:VEVENT
DTSTART;TZID=America/Denver:20250621T210000
DTEND;TZID=America/Denver:20250622T020000
DTSTAMP:20260421T130730
CREATED:20250603T190405Z
LAST-MODIFIED:20250603T193209Z
UID:1626-1750539600-1750557600@thepearldenver.com
SUMMARY:TOKYN/ToeKING’s Juneteenth Late Nite FreakFest
DESCRIPTION:WE’RE SO B[L]ACK‼️ TOKYN/ToeKING’s Juneteenth Late Nite FreakFest is back to resurrect ATL’s spirit of Freaknik (but make it gay). Come dressed for “The Cookout” in iconic 80s-2000s Black Fashion! We got drag\, burlesque\, raffles\, lesbian milfs\, contests\, trade\, dancin\, drank\, feral t-bois… hope i’m not forgetting anything\nCome throw a$$ at The Pearl (warehouse) SATURDAY\, JUNE 21ST starting at 9 pm! Show starts @ 10 pm with grindin\, jivin\, twerkin till 2 am w/ DJ @cuephoriamusic\nTix now live at https://buytickets.at/tokyn/1710042 (link in bio) as always\, BIPOC fam get a discount! Additionally\, attendees of The Beauty Shop variety show (6/19\, Creepatorium) get a discount to the LNFF! DM @luv.tokyn for discount code/more info\nTHE AUNTIES/UNCS OF THE NITE\n@nowmsiman\n@em3ra1d_tyg3r\n@theecocobardot\n@skyesamurai\n@geoconjure\n@kreolebrat\n@phreshair_\n@madusaxbobbi\n@olskool24\n@scum_bouquet\n@luv.tokyn
URL:https://thepearldenver.com/event/tokyn-toekings-juneteenth-late-nite-freakfest/
LOCATION:The Warehouse (Upper Level of The Pearl)\, 2195 California St\, Denver\, CO\, 80205\, United States
ATTACH;FMTTYPE=image/jpeg:https://thepearldenver.com/wp-content/uploads/2025/06/501541626_17911557708105430_1633833325538309375_n.jpg
END:VEVENT
END:VCALENDAR