BEGIN:VCALENDAR
VERSION:2.0
PRODID:-//The Pearl - ECPv6.15.20//NONSGML v1.0//EN
CALSCALE:GREGORIAN
METHOD:PUBLISH
X-WR-CALNAME:The Pearl
X-ORIGINAL-URL:https://thepearldenver.com
X-WR-CALDESC:Events for The Pearl
REFRESH-INTERVAL;VALUE=DURATION:PT1H
X-Robots-Tag:noindex
X-PUBLISHED-TTL:PT1H
BEGIN:VTIMEZONE
TZID:America/Denver
BEGIN:DAYLIGHT
TZOFFSETFROM:-0700
TZOFFSETTO:-0600
TZNAME:MDT
DTSTART:20240310T090000
END:DAYLIGHT
BEGIN:STANDARD
TZOFFSETFROM:-0600
TZOFFSETTO:-0700
TZNAME:MST
DTSTART:20241103T080000
END:STANDARD
BEGIN:DAYLIGHT
TZOFFSETFROM:-0700
TZOFFSETTO:-0600
TZNAME:MDT
DTSTART:20250309T090000
END:DAYLIGHT
BEGIN:STANDARD
TZOFFSETFROM:-0600
TZOFFSETTO:-0700
TZNAME:MST
DTSTART:20251102T080000
END:STANDARD
BEGIN:DAYLIGHT
TZOFFSETFROM:-0700
TZOFFSETTO:-0600
TZNAME:MDT
DTSTART:20260308T090000
END:DAYLIGHT
BEGIN:STANDARD
TZOFFSETFROM:-0600
TZOFFSETTO:-0700
TZNAME:MST
DTSTART:20261101T080000
END:STANDARD
END:VTIMEZONE
BEGIN:VEVENT
DTSTART;TZID=America/Denver:20250615T213000
DTEND;TZID=America/Denver:20250615T233000
DTSTAMP:20260421T105620
CREATED:20250516T220337Z
LAST-MODIFIED:20250530T005116Z
UID:1451-1750023000-1750030200@thepearldenver.com
SUMMARY:Sofa King Presents... Pounded: A Chuck Tingle Tribute
DESCRIPTION:Calling all buds and buckaroos for a Pride month King revue celebrating the queer community’s favorite Autistic living legend! Join us at @thepearldenver and see @azshtheronas \, @mxsockpuppet \, @oliverdikes \, and @saltyiceprince LIVE LIKE NEVER BEFORE in a tribute to the World’s Greatest Author.\n.\n.\n.\n#drag #dragqueen #dragking #denverdrag #localdrag #supportlocaldrag #kingrevue #bookdragkings
URL:https://thepearldenver.com/event/sofa-king-presents-pounded-a-chuck-tingle-tribute/
ATTACH;FMTTYPE=image/webp:https://thepearldenver.com/wp-content/uploads/2025/05/498310402_17911833075122064_407592790944397911_n.webp
END:VEVENT
END:VCALENDAR