BEGIN:VCALENDAR
VERSION:2.0
PRODID:-//The Pearl - ECPv6.15.20//NONSGML v1.0//EN
CALSCALE:GREGORIAN
METHOD:PUBLISH
X-WR-CALNAME:The Pearl
X-ORIGINAL-URL:https://thepearldenver.com
X-WR-CALDESC:Events for The Pearl
REFRESH-INTERVAL;VALUE=DURATION:PT1H
X-Robots-Tag:noindex
X-PUBLISHED-TTL:PT1H
BEGIN:VTIMEZONE
TZID:America/Denver
BEGIN:DAYLIGHT
TZOFFSETFROM:-0700
TZOFFSETTO:-0600
TZNAME:MDT
DTSTART:20240310T090000
END:DAYLIGHT
BEGIN:STANDARD
TZOFFSETFROM:-0600
TZOFFSETTO:-0700
TZNAME:MST
DTSTART:20241103T080000
END:STANDARD
BEGIN:DAYLIGHT
TZOFFSETFROM:-0700
TZOFFSETTO:-0600
TZNAME:MDT
DTSTART:20250309T090000
END:DAYLIGHT
BEGIN:STANDARD
TZOFFSETFROM:-0600
TZOFFSETTO:-0700
TZNAME:MST
DTSTART:20251102T080000
END:STANDARD
BEGIN:DAYLIGHT
TZOFFSETFROM:-0700
TZOFFSETTO:-0600
TZNAME:MDT
DTSTART:20260308T090000
END:DAYLIGHT
BEGIN:STANDARD
TZOFFSETFROM:-0600
TZOFFSETTO:-0700
TZNAME:MST
DTSTART:20261101T080000
END:STANDARD
END:VTIMEZONE
BEGIN:VEVENT
DTSTART;TZID=America/Denver:20250719T220000
DTEND;TZID=America/Denver:20250720T020000
DTSTAMP:20260421T055019
CREATED:20250715T160220Z
LAST-MODIFIED:20250716T173032Z
UID:1702-1752962400-1752976800@thepearldenver.com
SUMMARY:Sexy Azz Saturday: Black Sapphic Kickback
DESCRIPTION:18+ \nRap\, R&B\, & Vibes ALL NIGHT \n$9 margs & whiskey sourz\n$7 well drinks\n$$8 house wines \nGood mf’kn vibez onlyyy \nFor BIPOC femmes\, studs\, and gays
URL:https://thepearldenver.com/event/sexy-azz-saturday/
LOCATION:The Jungle Room (Lower Level of The Pearl)\, 2195 California St\, Denver\, CO\, 80205\, United States
ATTACH;FMTTYPE=image/jpeg:https://thepearldenver.com/wp-content/uploads/2025/07/517789714_18517529770003060_1107129865981019228_n.jpg
END:VEVENT
END:VCALENDAR