BEGIN:VCALENDAR
VERSION:2.0
PRODID:-//The Pearl - ECPv6.15.20//NONSGML v1.0//EN
CALSCALE:GREGORIAN
METHOD:PUBLISH
X-WR-CALNAME:The Pearl
X-ORIGINAL-URL:https://thepearldenver.com
X-WR-CALDESC:Events for The Pearl
REFRESH-INTERVAL;VALUE=DURATION:PT1H
X-Robots-Tag:noindex
X-PUBLISHED-TTL:PT1H
BEGIN:VTIMEZONE
TZID:America/Denver
BEGIN:DAYLIGHT
TZOFFSETFROM:-0700
TZOFFSETTO:-0600
TZNAME:MDT
DTSTART:20240310T090000
END:DAYLIGHT
BEGIN:STANDARD
TZOFFSETFROM:-0600
TZOFFSETTO:-0700
TZNAME:MST
DTSTART:20241103T080000
END:STANDARD
BEGIN:DAYLIGHT
TZOFFSETFROM:-0700
TZOFFSETTO:-0600
TZNAME:MDT
DTSTART:20250309T090000
END:DAYLIGHT
BEGIN:STANDARD
TZOFFSETFROM:-0600
TZOFFSETTO:-0700
TZNAME:MST
DTSTART:20251102T080000
END:STANDARD
BEGIN:DAYLIGHT
TZOFFSETFROM:-0700
TZOFFSETTO:-0600
TZNAME:MDT
DTSTART:20260308T090000
END:DAYLIGHT
BEGIN:STANDARD
TZOFFSETFROM:-0600
TZOFFSETTO:-0700
TZNAME:MST
DTSTART:20261101T080000
END:STANDARD
END:VTIMEZONE
BEGIN:VEVENT
DTSTART;TZID=America/Denver:20250611T200000
DTEND;TZID=America/Denver:20250611T210000
DTSTAMP:20260421T151254
CREATED:20250603T191441Z
LAST-MODIFIED:20250603T193324Z
UID:1643-1749672000-1749675600@thepearldenver.com
SUMMARY:June Moon Party
DESCRIPTION:Witch Wellness presents another MOON PARTY JUNE 11th 2025🌝🍯⭐️🔑✨🏳️‍🌈\nWe’ll have local vendors offering goodies such as:\n🍰 sweet treat + baked goods\n🎶 DJ & MUSIC\n🖊️ FLASH TATTOOS\n👠 Drag Performance\n🎨 Art + prints + live paintingwelcomed\n💎 Crafts + jewelry\n🧿 Witch Art\n🧖🏾‍♀️ Skin care products\n🎶DJ THIS EVENT🎶 @magztheoutlawed ( LOOKING FOR A SECOND DJ dm to join)\nVendors 👇🏾 @khadijahsflowers @shuggamamassweetspot @witchwellnessshop @hogarth_hughes @kesias_daydream @heartcenteredhealingco @arcanekollective @cuttheplastic @cdbbo.llc @get_flufffed @ngozisalcove777 @littlewitch.fox @uglyfauna\n& more! 🫶🏽\n🍑 💦 Twerk competition gets a $50 valued GIFT BAG prized with @witchwellnessshop products 🛍️ 🛒\n⭐️ WHAT: WITCH WELLNESS FULL MOON EVENTS 💝\n⭐️WHERE: The Pearl (2199 California St\nDenver\, CO 80205)\n⭐️WHEN: JUNE 11th 2025 @ 4:44 pm – 9 pm (Wednesday)\n🪄 TIME LINE:\n– (444 pm – 6 pm) ART WALK\n– (6 pm – 7 pm) TWERK COMPETITION & SOUL TRAIN LINE\n– (7 pm-8 pm) DRAG PERFORMERS\n– (8 pm – 9 pm) OPEN MIC FOR POETS & MUSICIANS 🪄 (Guitars\, instruments & poets welcomed)\n– CLOSE OUT WITH COLLECTIVE HOWL 🐺 & FIRE BURNING RITUAL 🔥\n🌈 Follow @witchwellnessshop 444 products/ services\n🌈 Follow @witchesandwizardscoven 444 monthly events\, client reviews & coven shout outs #fyp #fypppppppppppppppppppppppppppppppppppppppppppppppppppppppppppppppppppppp #fypage #fypシ❤️💞❤️ #fypviralシ゚ #explorepage✨ #explorer #denverevents #denvercommunity #denvereventplanner #eventcoordinator #gayevents #blackevents #monthly #blackgirl #blacktarot #blackwitch #lightmagic #whitemagic #fullmoon #fullmoonnight #moonparty #moonmagick #healing #releasing
URL:https://thepearldenver.com/event/june-moon-party/
ATTACH;FMTTYPE=image/jpeg:https://thepearldenver.com/wp-content/uploads/2025/06/501828070_18507956638045861_3854612673204262940_n.jpg
END:VEVENT
END:VCALENDAR