BEGIN:VCALENDAR
VERSION:2.0
PRODID:-//The Pearl - ECPv6.15.20//NONSGML v1.0//EN
CALSCALE:GREGORIAN
METHOD:PUBLISH
X-WR-CALNAME:The Pearl
X-ORIGINAL-URL:https://thepearldenver.com
X-WR-CALDESC:Events for The Pearl
REFRESH-INTERVAL;VALUE=DURATION:PT1H
X-Robots-Tag:noindex
X-PUBLISHED-TTL:PT1H
BEGIN:VTIMEZONE
TZID:America/Denver
BEGIN:DAYLIGHT
TZOFFSETFROM:-0700
TZOFFSETTO:-0600
TZNAME:MDT
DTSTART:20240310T090000
END:DAYLIGHT
BEGIN:STANDARD
TZOFFSETFROM:-0600
TZOFFSETTO:-0700
TZNAME:MST
DTSTART:20241103T080000
END:STANDARD
BEGIN:DAYLIGHT
TZOFFSETFROM:-0700
TZOFFSETTO:-0600
TZNAME:MDT
DTSTART:20250309T090000
END:DAYLIGHT
BEGIN:STANDARD
TZOFFSETFROM:-0600
TZOFFSETTO:-0700
TZNAME:MST
DTSTART:20251102T080000
END:STANDARD
BEGIN:DAYLIGHT
TZOFFSETFROM:-0700
TZOFFSETTO:-0600
TZNAME:MDT
DTSTART:20260308T090000
END:DAYLIGHT
BEGIN:STANDARD
TZOFFSETFROM:-0600
TZOFFSETTO:-0700
TZNAME:MST
DTSTART:20261101T080000
END:STANDARD
END:VTIMEZONE
BEGIN:VEVENT
DTSTART;TZID=America/Denver:20251102T173000
DTEND;TZID=America/Denver:20251102T183000
DTSTAMP:20260419T125128
CREATED:20250513T173158Z
LAST-MODIFIED:20250725T192225Z
UID:10004774-1762104600-1762108200@thepearldenver.com
SUMMARY:First-Timer Lindy Hop!
DESCRIPTION:Whether it’s your first or your thousandth time\, you can’t beat Sunday nights at the Mercury Cafe for their fun\, energy\, and value!  The first Sunday of every month\, the 5:30 class is a primer to learn the grandfather of all the swing dances: Lindy Hop! This will also get you ready to jump into the Tuesday night classes before the Lindy Jam! Drop-ins\, singles\, couples\, families\, and groups are all welcome. \nFor questions about this event\, please contact the event organizer listed below \n$18.00 Includes social dance
URL:https://thepearldenver.com/event/first-timer-lindy-hop/2025-11-02/
LOCATION:The Warehouse (Upper Level of The Pearl)\, 2195 California St\, Denver\, CO\, 80205\, United States
ATTACH;FMTTYPE=image/jpeg:https://thepearldenver.com/wp-content/uploads/2025/05/westcoast-e1648431867948.jpg
ORGANIZER;CN="Swing Nights":MAILTO:info@swingnights.com
END:VEVENT
END:VCALENDAR