BEGIN:VCALENDAR
VERSION:2.0
PRODID:-//The Pearl - ECPv6.15.20//NONSGML v1.0//EN
CALSCALE:GREGORIAN
METHOD:PUBLISH
X-WR-CALNAME:The Pearl
X-ORIGINAL-URL:https://thepearldenver.com
X-WR-CALDESC:Events for The Pearl
REFRESH-INTERVAL;VALUE=DURATION:PT1H
X-Robots-Tag:noindex
X-PUBLISHED-TTL:PT1H
BEGIN:VTIMEZONE
TZID:America/Denver
BEGIN:DAYLIGHT
TZOFFSETFROM:-0700
TZOFFSETTO:-0600
TZNAME:MDT
DTSTART:20240310T090000
END:DAYLIGHT
BEGIN:STANDARD
TZOFFSETFROM:-0600
TZOFFSETTO:-0700
TZNAME:MST
DTSTART:20241103T080000
END:STANDARD
BEGIN:DAYLIGHT
TZOFFSETFROM:-0700
TZOFFSETTO:-0600
TZNAME:MDT
DTSTART:20250309T090000
END:DAYLIGHT
BEGIN:STANDARD
TZOFFSETFROM:-0600
TZOFFSETTO:-0700
TZNAME:MST
DTSTART:20251102T080000
END:STANDARD
BEGIN:DAYLIGHT
TZOFFSETFROM:-0700
TZOFFSETTO:-0600
TZNAME:MDT
DTSTART:20260308T090000
END:DAYLIGHT
BEGIN:STANDARD
TZOFFSETFROM:-0600
TZOFFSETTO:-0700
TZNAME:MST
DTSTART:20261101T080000
END:STANDARD
END:VTIMEZONE
BEGIN:VEVENT
DTSTART;TZID=America/Denver:20251107T200000
DTEND;TZID=America/Denver:20251108T020000
DTSTAMP:20260419T075404
CREATED:20251019T201513Z
LAST-MODIFIED:20251019T201530Z
UID:2684-1762545600-1762567200@thepearldenver.com
SUMMARY:Coco's Super Sweet 13 Party: Ode to the 00s
DESCRIPTION:Get ready to party like it’s the early 2000s at Coco’s Super Sweet 13 Party – it’s gonna be totally tight! Drag show\, WIG SNATCHING & MORE \nCome celebrate Coco’s big day at The Pearl! Get ready to flashback to the 2000s with all your favorite hits\, fashion\, and trends. It’s going to be a blast from the past as we dance the night away to iconic songs from the era. Dress in your best 00s attire and get ready to party like it’s 1999! Don’t miss out on this epic throwback event – see you there!
URL:https://thepearldenver.com/event/cocos-super-sweet-13-party/
LOCATION:The Warehouse (Upper Level of The Pearl)\, 2195 California St\, Denver\, CO\, 80205\, United States
ATTACH;FMTTYPE=image/jpeg:https://thepearldenver.com/wp-content/uploads/2025/10/https___cdn.evbuc_.com_images_1155441813_1534389432583_1_original.jpg
END:VEVENT
END:VCALENDAR